Workbook
Name 기초생활수급자: [1]평가지표!$I$4:$I$8

Sheet 추천제(총괄)
A1: 2021년 상반기 전남인재육성 장학생 추천자 명단(총괄)
E3: 학생 정보 | O3: 계좌정보 | R3: 평점 | S3: 성적 평가 | V3: 소득 평가 | AG3: 에세이평가 (학숙생활) | AH3: 특이사항 | AI3: 장학금 수혜가능액 | AJ3: 이중지원방지시스템(한국장학재단) | AN3: 비고(기타 참고사항)
A4: 연번 | B4: 시군 | C4: 지원 분야 | D4: 구분 | E4: 성명 | F4: 생년월일 | G4: 성별 | H4: 주소 (전남+시·군+읍·면+도로명건물번호, 동·층·호) | I4: 학교 | J4: 학교명 | K4: 학과/학부 | L4: 학년 | M4: 본인 | N4: 보호자 | O4: 은행명 | P4: 계좌번호 | Q4: 예금주 | S4: 환산점수 | T4: 성적 | U4: 만점 | V4: 환산점수 | W4: 건강보험료 가입구분 | AA4: 건강보험료 산정구간 | AD4: 중위소득 산정 | AJ4: 한국장학재단 고객번호 | AK4: 등록금 | AL4: 장학금 | AM4: 선감면
W5: 가입구분 | X5: 수급자종류 | Y5: 가구원수 | Z5: 합산보헙료 | AA5: 위치 | AB5: 최소값 | AC5: 최대값 | AD5: 최소값 | AE5: 최대값 | AF5: 환산 중위소득
A6: 1 | B6: 목포시 | C6: 희망나래 | D6: 한울타리 | E6: 진아린 | F6: 060928 | G6: 여 | H6: 전남 목포시 용해지구로88번길 24, 401동 305호 | I6: 중 | J6: 청호중학교 | K6: - | L6: 3 | M6: 010-7196-1464 | N6: 010-7196-0005 | O6: 농협 | P6: 356-1232-3147-73 | Q6: 진아린 | R6: =IF(ISERROR(INDEX(#REF!,MATCH($D6,#REF!,0),1)*$S6+INDEX(#REF!,MATCH($D6,#REF!,0),2)*$V6+INDEX(#REF!,MATCH($D6,#REF!,0),3)*$AG6),"",INDEX(#REF!,MATCH($D6,#REF!,0),1)*$S6+INDEX(#REF!,MATCH($D6,#REF!,0),2)*$V6+INDEX(#REF!,MATCH($D6,#REF!,0),3)*$AG6) | S6: =IF(ISERROR(ROUND(IF(U6=100,T6,INDEX(#REF!,COUNTIF(OFFSET(#REF!,0,MATCH($U6,#REF!,0)),"<="&$T6))),1)),0,ROUND(IF(U6=100,T6,INDEX(#REF!,COUNTIF(OFFSET(#REF!,0,MATCH($U6,#REF!,0)),"<="&$T6))),1)) -> 0 | V6: =IF($W6="기초생활수급자",INDEX(#REF!,MATCH($X6,기초생활수급자,0),2),IF($W6="차상위계층",92,IF($Z6=0,90,IF($AF6<65%,88,88-($AF6*100-65)*0.4)))) -> #REF! | W6: 기초생활수급자 | X6: 생계급여 | Y6: 2 | Z6: 0 | AA6: =COUNTIF(OFFSET(INDIRECT("'"&$W6&"'!$A$2:$A$15"),0,$Y6),"<="&$Z6) -> #REF! | AB6: =IF(INDEX(INDIRECT("'"&$W6&"'!$B$2:$K$15"),$AA6,$Y6)=0,$Z6,INDEX(INDIRECT("'"&$W6&"'!$B$2:$K$15"),$AA6,$Y6)) -> #REF! | AC6: =IF(ISERROR(INDEX(INDIRECT("'"&$W6&"'!$B$2:$K$15"),$AA6+1,$Y6)),#REF!,INDEX(INDIRECT("'"&$W6&"'!$B$2:$K$15"),$AA6+1,$Y6)) -> #REF! | AD6: =INDEX(INDIRECT("'"&$W6&"'!$A$2:$A$15"),$AA6) -> #REF! | AE6: =IF(ISERROR(INDEX(INDIRECT("'"&$W6&"'!$A$2:$A$15"),$AA6+1)),INDEX(INDIRECT("'"&$W6&"'!$A$2:$A$15"),$AA6),INDEX(INDIRECT("'"&$W6&"'!$A$2:$A$15"),$AA6+1)) -> #REF! | AF6: =$AD6+($AE6-$AD6)*($Z6-$AB6)/($AC6-$AB6) -> #REF! | AG6: 19 | AI6: 300000
A7: 2 | B7: 목포시 | C7: 희망나래 | D7: 한울타리 | E7: 이성광 | F7: 060408 | G7: 남 | H7: 전남 목포시 죽산로16번길 3-1,302호 | I7: 중 | J7: 홍일중학교 | K7: - | L7: 3 | M7: 010-5899-8063 | N7: 010-5299-8063 | O7: 농협 | P7: 653016-56-104139 | Q7: 이성광 | R7: =IF(ISERROR(INDEX(#REF!,MATCH($D7,#REF!,0),1)*$S7+INDEX(#REF!,MATCH($D7,#REF!,0),2)*$V7+INDEX(#REF!,MATCH($D7,#REF!,0),3)*$AG7),"",INDEX(#REF!,MATCH($D7,#REF!,0),1)*$S7+INDEX(#REF!,MATCH($D7,#REF!,0),2)*$V7+INDEX(#REF!,MATCH($D7,#REF!,0),3)*$AG7) | S7: =IF(ISERROR(ROUND(IF(U7=100,T7,INDEX(#REF!,COUNTIF(OFFSET(#REF!,0,MATCH($U7,#REF!,0)),"<="&$T7))),1)),0,ROUND(IF(U7=100,T7,INDEX(#REF!,COUNTIF(OFFSET(#REF!,0,MATCH($U7,#REF!,0)),"<="&$T7))),1)) -> 0 | V7: =IF($W7="기초생활수급자",INDEX(#REF!,MATCH($X7,기초생활수급자,0),2),IF($W7="차상위계층",92,IF($Z7=0,90,IF($AF7<65%,88,88-($AF7*100-65)*0.4)))) -> #REF! | W7: 기초생활수급자 | X7: 생계급여 | Y7: 3 | Z7: 0 | AA7: =COUNTIF(OFFSET(INDIRECT("'"&$W7&"'!$A$2:$A$15"),0,$Y7),"<="&$Z7) -> #REF! | AB7: =IF(INDEX(INDIRECT("'"&$W7&"'!$B$2:$K$15"),$AA7,$Y7)=0,$Z7,INDEX(INDIRECT("'"&$W7&"'!$B$2:$K$15"),$AA7,$Y7)) -> #REF! | AC7: =IF(ISERROR(INDEX(INDIRECT("'"&$W7&"'!$B$2:$K$15"),$AA7+1,$Y7)),#REF!,INDEX(INDIRECT("'"&$W7&"'!$B$2:$K$15"),$AA7+1,$Y7)) -> #REF! | AD7: =INDEX(INDIRECT("'"&$W7&"'!$A$2:$A$15"),$AA7) -> #REF! | AE7: =IF(ISERROR(INDEX(INDIRECT("'"&$W7&"'!$A$2:$A$15"),$AA7+1)),INDEX(INDIRECT("'"&$W7&"'!$A$2:$A$15"),$AA7),INDEX(INDIRECT("'"&$W7&"'!$A$2:$A$15"),$AA7+1)) -> #REF! | AF7: =$AD7+($AE7-$AD7)*($Z7-$AB7)/($AC7-$AB7) -> #REF! | AG7: 21 | AI7: 300000
A8: 3 | B8: 목포시 | C8: 희망나래 | D8: 한울타리 | E8: 김성훈 | F8: 070702 | G8: 남 | H8: 전남 목포시 양을로141번길 6 | I8: 중 | J8: 홍일중학교 | K8: - | L8: 2 | M8: 010-7487-4739 | N8: 061-281-2255 | O8: 농협 | P8: 352-0589-1272-53 | Q8: 김성훈 | R8: =IF(ISERROR(INDEX(#REF!,MATCH($D8,#REF!,0),1)*$S8+INDEX(#REF!,MATCH($D8,#REF!,0),2)*$V8+INDEX(#REF!,MATCH($D8,#REF!,0),3)*$AG8),"",INDEX(#REF!,MATCH($D8,#REF!,0),1)*$S8+INDEX(#REF!,MATCH($D8,#REF!,0),2)*$V8+INDEX(#REF!,MATCH($D8,#REF!,0),3)*$AG8) | S8: =IF(ISERROR(ROUND(IF(U8=100,T8,INDEX(#REF!,COUNTIF(OFFSET(#REF!,0,MATCH($U8,#REF!,0)),"<="&$T8))),1)),0,ROUND(IF(U8=100,T8,INDEX(#REF!,COUNTIF(OFFSET(#REF!,0,MATCH($U8,#REF!,0)),"<="&$T8))),1)) -> 0 | V8: =IF($W8="기초생활수급자",INDEX(#REF!,MATCH($X8,기초생활수급자,0),2),IF($W8="차상위계층",92,IF($Z8=0,90,IF($AF8<65%,88,88-($AF8*100-65)*0.4)))) -> #REF! | W8: 기초생활수급자 | X8: 보장시설 | Y8: 1 | Z8: 0 | AA8: =COUNTIF(OFFSET(INDIRECT("'"&$W8&"'!$A$2:$A$15"),0,$Y8),"<="&$Z8) -> #REF! | AB8: =IF(INDEX(INDIRECT("'"&$W8&"'!$B$2:$K$15"),$AA8,$Y8)=0,$Z8,INDEX(INDIRECT("'"&$W8&"'!$B$2:$K$15"),$AA8,$Y8)) -> #REF! | AC8: =IF(ISERROR(INDEX(INDIRECT("'"&$W8&"'!$B$2:$K$15"),$AA8+1,$Y8)),#REF!,INDEX(INDIRECT("'"&$W8&"'!$B$2:$K$15"),$AA8+1,$Y8)) -> #REF! | AD8: =INDEX(INDIRECT("'"&$W8&"'!$A$2:$A$15"),$AA8) -> #REF! | AE8: =IF(ISERROR(INDEX(INDIRECT("'"&$W8&"'!$A$2:$A$15"),$AA8+1)),INDEX(INDIRECT("'"&$W8&"'!$A$2:$A$15"),$AA8),INDEX(INDIRECT("'"&$W8&"'!$A$2:$A$15"),$AA8+1)) -> #REF! | AF8: =$AD8+($AE8-$AD8)*($Z8-$AB8)/($AC8-$AB8) -> #REF! | AG8: 26 | AI8: 300000
A9: 4 | B9: 목포시 | C9: 희망나래 | D9: 한울타리 | E9: 부민지 | F9: 030814 | G9: 여 | H9: 전남 목포시 삼향천로 35, 101동 601호 | I9: 고 | J9: 삼계고등학교 | K9: 부사관학과 | L9: 3 | M9: 010-5632-0814 | N9: 010-5621-0814 | O9: 농협 | P9: 356-1207-4987-23 | Q9: 부민지 | R9: =IF(ISERROR(INDEX(#REF!,MATCH($D9,#REF!,0),1)*$S9+INDEX(#REF!,MATCH($D9,#REF!,0),2)*$V9+INDEX(#REF!,MATCH($D9,#REF!,0),3)*$AG9),"",INDEX(#REF!,MATCH($D9,#REF!,0),1)*$S9+INDEX(#REF!,MATCH($D9,#REF!,0),2)*$V9+INDEX(#REF!,MATCH($D9,#REF!,0),3)*$AG9) | S9: 0 | V9: =IF($W9="기초생활수급자",INDEX(#REF!,MATCH($X9,기초생활수급자,0),2),IF($W9="차상위계층",92,IF($Z9=0,90,IF($AF9<65%,88,88-($AF9*100-65)*0.4)))) -> #REF! | W9: 기초생활수급자 | X9: 주거급여 | Y9: 3 | Z9: 0 | AA9: =COUNTIF(OFFSET(INDIRECT("'"&$W9&"'!$A$2:$A$15"),0,$Y9),"<="&$Z9) -> #REF! | AB9: =IF(INDEX(INDIRECT("'"&$W9&"'!$B$2:$K$15"),$AA9,$Y9)=0,$Z9,INDEX(INDIRECT("'"&$W9&"'!$B$2:$K$15"),$AA9,$Y9)) -> #REF! | AC9: =IF(ISERROR(INDEX(INDIRECT("'"&$W9&"'!$B$2:$K$15"),$AA9+1,$Y9)),#REF!,INDEX(INDIRECT("'"&$W9&"'!$B$2:$K$15"),$AA9+1,$Y9)) -> #REF! | AD9: =INDEX(INDIRECT("'"&$W9&"'!$A$2:$A$15"),$AA9) -> #REF! | AE9: =IF(ISERROR(INDEX(INDIRECT("'"&$W9&"'!$A$2:$A$15"),$AA9+1)),INDEX(INDIRECT("'"&$W9&"'!$A$2:$A$15"),$AA9),INDEX(INDIRECT("'"&$W9&"'!$A$2:$A$15"),$AA9+1)) -> #REF! | AF9: =$AD9+($AE9-$AD9)*($Z9-$AB9)/($AC9-$AB9) -> #REF! | AG9: 24 | AI9: 500000
A10: 5 | B10: 목포시 | C10: 희망나래 | D10: 한울타리 | E10: 김건령 | F10: 030606 | G10: 남 | H10: 전남 목포시 삼각로43번길 22, 301호 | I10: 고 | J10: 완도수산고등학교 | K10: 어선운항관리과 | L10: 3 | M10: 010-6647-2132 | N10: 010-8881-2132 | O10: 농협 | P10: 356-1402-1819-83 | Q10: 김건령 | R10: =IF(ISERROR(INDEX(#REF!,MATCH($D10,#REF!,0),1)*$S10+INDEX(#REF!,MATCH($D10,#REF!,0),2)*$V10+INDEX(#REF!,MATCH($D10,#REF!,0),3)*$AG10),"",INDEX(#REF!,MATCH($D10,#REF!,0),1)*$S10+INDEX(#REF!,MATCH($D10,#REF!,0),2)*$V10+INDEX(#REF!,MATCH($D10,#REF!,0),3)*$AG10) | S10: =IF(ISERROR(ROUND(IF(U10=100,T10,INDEX(#REF!,COUNTIF(OFFSET(#REF!,0,MATCH($U10,#REF!,0)),"<="&$T10))),1)),0,ROUND(IF(U10=100,T10,INDEX(#REF!,COUNTIF(OFFSET(#REF!,0,MATCH($U10,#REF!,0)),"<="&$T10))),1)) -> 0 | V10: =IF($W10="기초생활수급자",INDEX(#REF!,MATCH($X10,기초생활수급자,0),2),IF($W10="차상위계층",92,IF($Z10=0,90,IF($AF10<65%,88,88-($AF10*100-65)*0.4)))) -> #REF! | W10: 직장가입자 | Y10: 2 | Z10: 46380 | AA10: =COUNTIF(OFFSET(INDIRECT("'"&$W10&"'!$A$2:$A$15"),0,$Y10),"<="&$Z10) -> #REF! | AB10: =IF(INDEX(INDIRECT("'"&$W10&"'!$B$2:$K$15"),$AA10,$Y10)=0,$Z10,INDEX(INDIRECT("'"&$W10&"'!$B$2:$K$15"),$AA10,$Y10)) -> #REF! | AC10: =IF(ISERROR(INDEX(INDIRECT("'"&$W10&"'!$B$2:$K$15"),$AA10+1,$Y10)),#REF!,INDEX(INDIRECT("'"&$W10&"'!$B$2:$K$15"),$AA10+1,$Y10)) -> #REF! | AD10: =INDEX(INDIRECT("'"&$W10&"'!$A$2:$A$15"),$AA10) -> #REF! | AE10: =IF(ISERROR(INDEX(INDIRECT("'"&$W10&"'!$A$2:$A$15"),$AA10+1)),INDEX(INDIRECT("'"&$W10&"'!$A$2:$A$15"),$AA10),INDEX(INDIRECT("'"&$W10&"'!$A$2:$A$15"),$AA10+1)) -> #REF! | AF10: =$AD10+($AE10-$AD10)*($Z10-$AB10)/($AC10-$AB10) -> #REF! | AG10: 27 | AI10: 500000
A11: 6 | B11: 목포시 | C11: 희망나래 | D11: 한울타리 | E11: 김민지 | F11: 050330 | G11: 여 | H11: 전남 목포시 보리마당로52번길 18 | I11: 고 | J11: 전남보건고등학교 | K11: 보건간호과 | L11: 1 | M11: 010-8563-3967 | N11: 010-5861-3967 | O11: 농협 | P11: 356-1461-2985-83 | Q11: 김민지 | R11: =IF(ISERROR(INDEX(#REF!,MATCH($D11,#REF!,0),1)*$S11+INDEX(#REF!,MATCH($D11,#REF!,0),2)*$V11+INDEX(#REF!,MATCH($D11,#REF!,0),3)*$AG11),"",INDEX(#REF!,MATCH($D11,#REF!,0),1)*$S11+INDEX(#REF!,MATCH($D11,#REF!,0),2)*$V11+INDEX(#REF!,MATCH($D11,#REF!,0),3)*$AG11) | S11: =IF(ISERROR(ROUND(IF(U11=100,T11,INDEX(#REF!,COUNTIF(OFFSET(#REF!,0,MATCH($U11,#REF!,0)),"<="&$T11))),1)),0,ROUND(IF(U11=100,T11,INDEX(#REF!,COUNTIF(OFFSET(#REF!,0,MATCH($U11,#REF!,0)),"<="&$T11))),1)) -> 0 | V11: =IF($W11="기초생활수급자",INDEX(#REF!,MATCH($X11,기초생활수급자,0),2),IF($W11="차상위계층",92,IF($Z11=0,90,IF($AF11<65%,88,88-($AF11*100-65)*0.4)))) -> #REF! | W11: 지역가입자 | Y11: 2 | Z11: 14180 | AA11: =COUNTIF(OFFSET(INDIRECT("'"&$W11&"'!$A$2:$A$15"),0,$Y11),"<="&$Z11) -> #REF! | AB11: =IF(INDEX(INDIRECT("'"&$W11&"'!$B$2:$K$15"),$AA11,$Y11)=0,$Z11,INDEX(INDIRECT("'"&$W11&"'!$B$2:$K$15"),$AA11,$Y11)) -> #REF! | AC11: =IF(ISERROR(INDEX(INDIRECT("'"&$W11&"'!$B$2:$K$15"),$AA11+1,$Y11)),#REF!,INDEX(INDIRECT("'"&$W11&"'!$B$2:$K$15"),$AA11+1,$Y11)) -> #REF! | AD11: =INDEX(INDIRECT("'"&$W11&"'!$A$2:$A$15"),$AA11) -> #REF! | AE11: =IF(ISERROR(INDEX(INDIRECT("'"&$W11&"'!$A$2:$A$15"),$AA11+1)),INDEX(INDIRECT("'"&$W11&"'!$A$2:$A$15"),$AA11),INDEX(INDIRECT("'"&$W11&"'!$A$2:$A$15"),$AA11+1)) -> #REF! | AF11: =$AD11+($AE11-$AD11)*($Z11-$AB11)/($AC11-$AB11) -> #REF! | AG11: 21 | AI11: 500000
A12: 7 | B12: 목포시 | C12: 희망나래 | D12: 한울타리 | E12: 오정미 | F12: 830816 | G12: 여 | H12: 전남 목포시 교육로 107, 902호 | I12: 대 | J12: 목포과학대학교 | K12: 휴먼융합복지과 | L12: 2 | M12: 010-4919-1231 | O12: 우체국 | P12: 503904-02-117843 | Q12: 오정미 | R12: =IF(ISERROR(INDEX(#REF!,MATCH($D12,#REF!,0),1)*$S12+INDEX(#REF!,MATCH($D12,#REF!,0),2)*$V12+INDEX(#REF!,MATCH($D12,#REF!,0),3)*$AG12),"",INDEX(#REF!,MATCH($D12,#REF!,0),1)*$S12+INDEX(#REF!,MATCH($D12,#REF!,0),2)*$V12+INDEX(#REF!,MATCH($D12,#REF!,0),3)*$AG12) | S12: =IF(ISERROR(ROUND(IF(U12=100,T12,INDEX(#REF!,COUNTIF(OFFSET(#REF!,0,MATCH($U12,#REF!,0)),"<="&$T12))),1)),0,ROUND(IF(U12=100,T12,INDEX(#REF!,COUNTIF(OFFSET(#REF!,0,MATCH($U12,#REF!,0)),"<="&$T12))),1)) -> 0 | V12: =IF($W12="기초생활수급자",INDEX(#REF!,MATCH($X12,기초생활수급자,0),2),IF($W12="차상위계층",92,IF($Z12=0,90,IF($AF12<65%,88,88-($AF12*100-65)*0.4)))) -> #REF! | W12: 기초생활수급자 | X12: 생계급여 | Y12: 2 | Z12: 0 | AA12: =COUNTIF(OFFSET(INDIRECT("'"&$W12&"'!$A$2:$A$15"),0,$Y12),"<="&$Z12) -> #REF! | AB12: =IF(INDEX(INDIRECT("'"&$W12&"'!$B$2:$K$15"),$AA12,$Y12)=0,$Z12,INDEX(INDIRECT("'"&$W12&"'!$B$2:$K$15"),$AA12,$Y12)) -> #REF! | AC12: =IF(ISERROR(INDEX(INDIRECT("'"&$W12&"'!$B$2:$K$15"),$AA12+1,$Y12)),#REF!,INDEX(INDIRECT("'"&$W12&"'!$B$2:$K$15"),$AA12+1,$Y12)) -> #REF! | AD12: =INDEX(INDIRECT("'"&$W12&"'!$A$2:$A$15"),$AA12) -> #REF! | AE12: =IF(ISERROR(INDEX(INDIRECT("'"&$W12&"'!$A$2:$A$15"),$AA12+1)),INDEX(INDIRECT("'"&$W12&"'!$A$2:$A$15"),$AA12),INDEX(INDIRECT("'"&$W12&"'!$A$2:$A$15"),$AA12+1)) -> #REF! | AF12: =$AD12+($AE12-$AD12)*($Z12-$AB12)/($AC12-$AB12) -> #REF! | AG12: 15 | AI12: 1500000 | AJ12: 0166871964 | AK12: 2685000 | AL12: 2600000 | AM12: 2600000
A13: 8 | B13: 목포시 | C13: 희망나래 | D13: 한울타리 | E13: 정휘찬 | F13: 990106 | G13: 남 | H13: 전남 목포시 죽교천로136번길 5 | I13: 대 | J13: 한양대학교 | K13: 전자공학부 | L13: 3 | M13: 010-7697-9955 | N13: 010-7442-1671 | O13: 우체국 | P13: 500421-02-201104 | Q13: 정휘찬 | R13: =IF(ISERROR(INDEX(#REF!,MATCH($D13,#REF!,0),1)*$S13+INDEX(#REF!,MATCH($D13,#REF!,0),2)*$V13+INDEX(#REF!,MATCH($D13,#REF!,0),3)*$AG13),"",INDEX(#REF!,MATCH($D13,#REF!,0),1)*$S13+INDEX(#REF!,MATCH($D13,#REF!,0),2)*$V13+INDEX(#REF!,MATCH($D13,#REF!,0),3)*$AG13) | S13: =IF(ISERROR(ROUND(IF(U13=100,T13,INDEX(#REF!,COUNTIF(OFFSET(#REF!,0,MATCH($U13,#REF!,0)),"<="&$T13))),1)),0,ROUND(IF(U13=100,T13,INDEX(#REF!,COUNTIF(OFFSET(#REF!,0,MATCH($U13,#REF!,0)),"<="&$T13))),1)) -> 0 | V13: =IF($W13="기초생활수급자",INDEX(#REF!,MATCH($X13,기초생활수급자,0),2),IF($W13="차상위계층",92,IF($Z13=0,90,IF($AF13<65%,88,88-($AF13*100-65)*0.4)))) -> #REF! | W13: 직장가입자 | Y13: 4 | Z13: 125637 | AA13: =COUNTIF(OFFSET(INDIRECT("'"&$W13&"'!$A$2:$A$15"),0,$Y13),"<="&$Z13) -> #REF! | AB13: =IF(INDEX(INDIRECT("'"&$W13&"'!$B$2:$K$15"),$AA13,$Y13)=0,$Z13,INDEX(INDIRECT("'"&$W13&"'!$B$2:$K$15"),$AA13,$Y13)) -> #REF! | AC13: =IF(ISERROR(INDEX(INDIRECT("'"&$W13&"'!$B$2:$K$15"),$AA13+1,$Y13)),#REF!,INDEX(INDIRECT("'"&$W13&"'!$B$2:$K$15"),$AA13+1,$Y13)) -> #REF! | AD13: =INDEX(INDIRECT("'"&$W13&"'!$A$2:$A$15"),$AA13) -> #REF! | AE13: =IF(ISERROR(INDEX(INDIRECT("'"&$W13&"'!$A$2:$A$15"),$AA13+1)),INDEX(INDIRECT("'"&$W13&"'!$A$2:$A$15"),$AA13),INDEX(INDIRECT("'"&$W13&"'!$A$2:$A$15"),$AA13+1)) -> #REF! | AF13: =$AD13+($AE13-$AD13)*($Z13-$AB13)/($AC13-$AB13) -> #REF! | AG13: 27 | AI13: 1500000 | AJ13: 0144045594 | AK13: 4630000 | AL13: 0 | AM13: 0
A14: 9 | B14: 목포시 | C14: 희망나래 | D14: 한울타리 | E14: 이정윤 | F14: 020308 | G14: 남 | H14: 전남 목포시 청호로 201, 105동 203호 | I14: 대 | J14: 국민대학교 | K14: 신소재공학과 | L14: 1 | M14: 010-4414-3712 | N14: 010-8126-1224 | O14: 농협 | P14: 352-4414-3712-03 | Q14: 이정윤 | R14: =IF(ISERROR(INDEX(#REF!,MATCH($D14,#REF!,0),1)*$S14+INDEX(#REF!,MATCH($D14,#REF!,0),2)*$V14+INDEX(#REF!,MATCH($D14,#REF!,0),3)*$AG14),"",INDEX(#REF!,MATCH($D14,#REF!,0),1)*$S14+INDEX(#REF!,MATCH($D14,#REF!,0),2)*$V14+INDEX(#REF!,MATCH($D14,#REF!,0),3)*$AG14) | S14: =IF(ISERROR(ROUND(IF(U14=100,T14,INDEX(#REF!,COUNTIF(OFFSET(#REF!,0,MATCH($U14,#REF!,0)),"<="&$T14))),1)),0,ROUND(IF(U14=100,T14,INDEX(#REF!,COUNTIF(OFFSET(#REF!,0,MATCH($U14,#REF!,0)),"<="&$T14))),1)) -> 0 | V14: =IF($W14="기초생활수급자",INDEX(#REF!,MATCH($X14,기초생활수급자,0),2),IF($W14="차상위계층",92,IF($Z14=0,90,IF($AF14<65%,88,88-($AF14*100-65)*0.4)))) -> #REF! | W14: 기초생활수급자 | X14: 생계급여 | Y14: 4 | Z14: 0 | AA14: =COUNTIF(OFFSET(INDIRECT("'"&$W14&"'!$A$2:$A$15"),0,$Y14),"<="&$Z14) -> #REF! | AB14: =IF(INDEX(INDIRECT("'"&$W14&"'!$B$2:$K$15"),$AA14,$Y14)=0,$Z14,INDEX(INDIRECT("'"&$W14&"'!$B$2:$K$15"),$AA14,$Y14)) -> #REF! | AC14: =IF(ISERROR(INDEX(INDIRECT("'"&$W14&"'!$B$2:$K$15"),$AA14+1,$Y14)),#REF!,INDEX(INDIRECT("'"&$W14&"'!$B$2:$K$15"),$AA14+1,$Y14)) -> #REF! | AD14: =INDEX(INDIRECT("'"&$W14&"'!$A$2:$A$15"),$AA14) -> #REF! | AE14: =IF(ISERROR(INDEX(INDIRECT("'"&$W14&"'!$A$2:$A$15"),$AA14+1)),INDEX(INDIRECT("'"&$W14&"'!$A$2:$A$15"),$AA14),INDEX(INDIRECT("'"&$W14&"'!$A$2:$A$15"),$AA14+1)) -> #REF! | AF14: =$AD14+($AE14-$AD14)*($Z14-$AB14)/($AC14-$AB14) -> #REF! | AG14: 25 | AI14: 1500000 | AJ14: 0174579732 | AK14: 4516000 | AL14: 4486000 | AM14: 4486000
A15: 10 | B15: 목포시 | C15: 희망나래 | D15: 한울타리 | E15: 이현승 | F15: 010621 | G15: 남 | H15: 전남 목포시 삼학로 376-1, 5동 202호 | I15: 대 | J15: 성균관대학교 | K15: 전자전기공학부 | L15: 2 | M15: 010-4521-5981 | N15: 010-2667-5981 | O15: 농협 | P15: 349-0583-0728-91 | Q15: 이현승 | R15: =IF(ISERROR(INDEX(#REF!,MATCH($D15,#REF!,0),1)*$S15+INDEX(#REF!,MATCH($D15,#REF!,0),2)*$V15+INDEX(#REF!,MATCH($D15,#REF!,0),3)*$AG15),"",INDEX(#REF!,MATCH($D15,#REF!,0),1)*$S15+INDEX(#REF!,MATCH($D15,#REF!,0),2)*$V15+INDEX(#REF!,MATCH($D15,#REF!,0),3)*$AG15) | S15: =IF(ISERROR(ROUND(IF(U15=100,T15,INDEX(#REF!,COUNTIF(OFFSET(#REF!,0,MATCH($U15,#REF!,0)),"<="&$T15))),1)),0,ROUND(IF(U15=100,T15,INDEX(#REF!,COUNTIF(OFFSET(#REF!,0,MATCH($U15,#REF!,0)),"<="&$T15))),1)) -> 0 | V15: =IF($W15="기초생활수급자",INDEX(#REF!,MATCH($X15,기초생활수급자,0),2),IF($W15="차상위계층",92,IF($Z15=0,90,IF($AF15<65%,88,88-($AF15*100-65)*0.4)))) -> #REF! | W15: 직장가입자 | Y15: 3 | Z15: 67923 | AA15: =COUNTIF(OFFSET(INDIRECT("'"&$W15&"'!$A$2:$A$15"),0,$Y15),"<="&$Z15) -> #REF! | AB15: =IF(INDEX(INDIRECT("'"&$W15&"'!$B$2:$K$15"),$AA15,$Y15)=0,$Z15,INDEX(INDIRECT("'"&$W15&"'!$B$2:$K$15"),$AA15,$Y15)) -> #REF! | AC15: =IF(ISERROR(INDEX(INDIRECT("'"&$W15&"'!$B$2:$K$15"),$AA15+1,$Y15)),#REF!,INDEX(INDIRECT("'"&$W15&"'!$B$2:$K$15"),$AA15+1,$Y15)) -> #REF! | AD15: =INDEX(INDIRECT("'"&$W15&"'!$A$2:$A$15"),$AA15) -> #REF! | AE15: =IF(ISERROR(INDEX(INDIRECT("'"&$W15&"'!$A$2:$A$15"),$AA15+1)),INDEX(INDIRECT("'"&$W15&"'!$A$2:$A$15"),$AA15),INDEX(INDIRECT("'"&$W15&"'!$A$2:$A$15"),$AA15+1)) -> #REF! | AF15: =$AD15+($AE15-$AD15)*($Z15-$AB15)/($AC15-$AB15) -> #REF! | AG15: 26 | AI15: 1500000 | AJ15: 0169711243 | AK15: 4567000 | AL15: 4557000 | AM15: 4557000 | AN15: 등본 최근걸로, 학생 건강보험료 납부 서류가 없음
A16: 11 | B16: 여수시 | C16: 희망나래 | D16: 한울타리 | E16: 강수아 | F16: 070526 | G16: 여 | H16: 전남 여수시 좌수영로 435, 9동 104호(둔덕주공아파트) | I16: 중 | J16: 화양중학교 | L16: 2 | M16: 010-7683-2115 | N16: 010-4936-6923 | O16: 농협 | P16: 384-1113-2107-23 | Q16: 강수아 | R16: 99 | S16: 0 | V16: 100 | W16: 기초생활수급자 | X16: 생계급여 | AA16: #REF! | AB16: #REF! | AC16: #REF! | AD16: #REF! | AE16: #REF! | AF16: #REF! | AG16: 29 | AI16: 300000 | AN16: -
A17: 12 | B17: 여수시 | C17: 희망나래 | D17: 한울타리 | E17: 우경민 | F17: 060411 | G17: 남 | H17: 전남 여수시 신월로 655, 109동 1003호(국동, 서희스타힐스A) | I17: 중 | J17: 여수구봉중학교 | L17: 3 | M17: 010-8855-6483 | N17: 010-5674-0472 | O17: 농협 | P17: 352-1374-8076-43 | Q17: 우경민 | R17: 96.2 | S17: 0 | V17: 96 | W17: 기초생활수급자 | X17: 주거급여 | AA17: #REF! | AB17: #REF! | AC17: #REF! | AD17: #REF! | AE17: #REF! | AF17: #REF! | AG17: 29 | AI17: 300000 | AN17: -
A18: 13 | B18: 여수시 | C18: 희망나래 | D18: 한울타리 | E18: 이현강 | F18: 060721 | G18: 남 | H18: 전남 여수시 선원7길 56, 106동 202호 | I18: 중 | J18: 여선중학교 | L18: 3 | M18: 010-9302-6445 | N18: 010-7191-7899 | O18: 농협 | P18: 302-1330-0726-51 | Q18: 이현강 | R18: 96.2 | S18: 0 | V18: 96 | W18: 기초생활수급자 | X18: 주거급여 | AA18: #REF! | AB18: #REF! | AC18: #REF! | AD18: #REF! | AE18: #REF! | AF18: #REF! | AG18: 29 | AI18: 300000 | AN18: -
A19: 14 | B19: 여수시 | C19: 희망나래 | D19: 한울타리 | E19: 하승준 | F19: 030125 | G19: 남 | H19: 전남 여수시 율촌면 도성길 76-21 | I19: 고 | J19: 순천전자고등학교 | K19: 해킹보안과 | L19: 3 | M19: 010-5069-7824 | N19: 010-7683-7880 | O19: 농협 | P19: 356-0028-7529-43 | Q19: 하승준 | R19: 100 | S19: 0 | V19: 100 | W19: 기초생활수급자 | X19: 생계급여 | AA19: #REF! | AB19: #REF! | AC19: #REF! | AD19: #REF! | AE19: #REF! | AF19: #REF! | AG19: 30 | AI19: 500000 | AN19: -
A20: 15 | B20: 여수시 | C20: 희망나래 | D20: 한울타리 | E20: 정예진 | F20: 051210 | G20: 여 | H20: 전남 여수시 덕충6길 64(덕충동) | I20: 고 | J20: 여수여자고등학교 | L20: 1 | M20: 010-4992-1855 | N20: 010-5600-1855 | O20: 농협 | P20: 351-1125-7298-63 | Q20: 정예진 | R20: 97.2 | S20: 0 | V20: 96 | W20: 기초생활수급자 | X20: 주거급여 | AA20: #REF! | AB20: #REF! | AC20: #REF! | AD20: #REF! | AE20: #REF! | AF20: #REF! | AG20: 30 | AI20: 500000 | AN20: -
A21: 16 | B21: 여수시 | C21: 희망나래 | D21: 한울타리 | E21: 공여진 | F21: 040707 | G21: 여 | H21: 전남 여수시 웅천남8로 23, 208동 804호 | I21: 고 | J21: 부영여자고등학교 | L21: 2 | M21: 010-8108-0175 | N21: 010-5525-0175 | O21: 농협 | P21: 351-1028-3587-53 | Q21: 공여진 | R21: 97.2 | S21: 0 | V21: 96 | W21: 기초생활수급자 | X21: 주거급여 | AA21: #REF! | AB21: #REF! | AC21: #REF! | AD21: #REF! | AE21: #REF! | AF21: #REF! | AG21: 30 | AI21: 500000 | AN21: -
A22: 17 | B22: 여수시 | C22: 희망나래 | D22: 한울타리 | E22: 전서영 | F22: 030415 | G22: 여 | H22: 전남 여수시 여서로 188, 702동 905호(여서동, 부영아파트) | I22: 고 | J22: 중앙여자고등학교 | L22: 3 | M22: 010-5546-3612 | N22: 010-3360-3612 | O22: 농협 | P22: 302-1329-3672-61 | Q22: 전서영 | R22: 93.4 | S22: 0 | V22: 92 | W22: 차상위계층 | AA22: #REF! | AB22: #REF! | AC22: #REF! | AD22: #REF! | AE22: #REF! | AF22: #REF! | AG22: 29 | AI22: 500000 | AN22: -
A23: 18 | B23: 여수시 | C23: 희망나래 | D23: 한울타리 | E23: 최서인 | F23: 011226 | G23: 여 | H23: 전남 여수시 봉강로 32 | I23: 대 | J23: 서울대학교 | K23: 산림환경학과/산림과학부 | L23: 2 | M23: 010-9236-4532 | N23: 010-2783-1877 | O23: 하나 | P23: 720-910308-53807 | Q23: 최서인 | R23: 100 | S23: 0 | V23: 100 | W23: 기초생활수급자 | X23: 생계급여 | AA23: #REF! | AB23: #REF! | AC23: #REF! | AD23: #REF! | AE23: #REF! | AF23: #REF! | AG23: 30 | AI23: 1500000 | AJ23: 164647176 | AK23: 2975000 | AL23: 2975000 | AN23: - | AO23: 학업장려금 이중수혜가능
A24: 19 | B24: 여수시 | C24: 희망나래 | D24: 한울타리 | E24: 김보미 | F24: 990413 | G24: 여 | H24: 전남 여수시 무선2길 39, 102동 804호 | I24: 대 | J24: 순천대학교 | K24: 간호학과 | L24: 4 | M24: 010-9445-1022 | N24: 010-4633-5397 | O24: 우체국 | P24: 503953-02-139051 | Q24: 김보미 | R24: 100 | S24: 0 | V24: 100 | W24: 기초생활수급자 | X24: 생계급여 | AA24: #REF! | AB24: #REF! | AC24: #REF! | AD24: #REF! | AE24: #REF! | AF24: #REF! | AG24: 30 | AI24: 1500000 | AJ24: 151666147 | AK24: 2035000 | AL24: 2035000 | AN24: - | AO24: 학업장려금 이중수혜가능
A25: 20 | B25: 여수시 | C25: 희망나래 | D25: 한울타리 | E25: 전유진 | F25: 020826 | G25: 여 | H25: 전남 여수시 덕충안길 5, 6동 502호(덕충동, 주공아파트) | I25: 대 | J25: 한국예술종합학교 | K25: 연희과/전통예술원 | L25: 1 | M25: 010-5590-2362 | N25: 010-8980-1537 | O25: 신한은행 | P25: 110-473-014729 | Q25: 전유진 | R25: 100 | S25: 0 | V25: 100 | W25: 기초생활수급자 | X25: 생계급여 | AA25: #REF! | AB25: #REF! | AC25: #REF! | AD25: #REF! | AE25: #REF! | AF25: #REF! | AG25: 30 | AI25: 1500000 | AJ25: 174098397 | AK25: 2585000 | AL25: 2555000 | AN25: 30000 | AO25: 학업장려금 이중수혜가능
A26: 21 | B26: 여수시 | C26: 희망나래 | D26: 한울타리 | E26: 배미라 | F26: 010423 | G26: 여 | H26: 전남 여수시 여문2로 11, 107동 114호 | I26: 대 | J26: 조선대학교 | K26: 경영학과 | L26: 2 | M26: 010-6436-4506 | N26: 010-3783-5299 | O26: 카카오뱅크 | P26: 3333-13-8090924 | Q26: 배미라 | R26: 99 | S26: 0 | V26: 100 | W26: 기초생활수급자 | X26: 생계급여 | AA26: #REF! | AB26: #REF! | AC26: #REF! | AD26: #REF! | AE26: #REF! | AF26: #REF! | AG26: 29 | AI26: 1500000 | AJ26: 168384850 | AK26: 2864000 | AL26: 2864000 | AN26: - | AO26: 학업장려금 이중수혜가능
A27: 22 | B27: 여수시 | C27: 희망나래 | D27: 한울타리 | E27: 정예진 | F27: 980606 | G27: 여 | H27: 전남 여수시 신기북7길 37 | I27: 대 | J27: 동신대학교 | K27: 간호학과 | L27: 4 | M27: 010-3804-8060 | N27: 010-4159-7004 | O27: 농협 | P27: 352-1219-2207-13 | Q27: 정예진 | R27: 94.4 | S27: 0 | V27: 92 | W27: 차상위계층 | AA27: #REF! | AB27: #REF! | AC27: #REF! | AD27: #REF! | AE27: #REF! | AF27: #REF! | AG27: 30 | AI27: 1500000 | AJ27: 144241466 | AK27: 3327000 | AL27: 2600000 | AN27: 727000 | AO27: 학업장려금 이중수혜가능
A28: 23 | B28: 여수시 | C28: 희망나래 | D28: 한울타리 | E28: 최양선 | F28: 921116 | G28: 여 | H28: 전남 여수시 쌍봉로 177, 102동 502호(신기동, 주공아파트) | I28: 대 | J28: 호남신학대학교 | K28: 음악학과 | L28: 4 | M28: 010-2486-5659 | N28: 010-3877-5624 | O28: 우리은행 | P28: 1002-451-190812 | Q28: 최양선 | R28: 94.4 | S28: 0 | V28: 92 | W28: 차상위계층 | AA28: #REF! | AB28: #REF! | AC28: #REF! | AD28: #REF! | AE28: #REF! | AF28: #REF! | AG28: 30 | AI28: 1500000 | AJ28: 151113130 | AK28: 3896700 | AL28: 3866700 | AN28: 30000 | AO28: 학업장려금 이중수혜가능
A29: 24 | B29: 여수시 | C29: 희망나래 | D29: 한울타리 | E29: 정세원 | F29: 010223 | G29: 여 | H29: 전남 여수시 대치1길 57 | I29: 대 | J29: 광주여자대학교 | K29: 간호학과 | L29: 2 | M29: 010-4651-9873 | N29: 010-4651-0722 | O29: 농협 | P29: 501040-52-100255 | Q29: 정세원 | R29: 94.4 | S29: 0 | V29: 92 | W29: 차상위계층 | AA29: #REF! | AB29: #REF! | AC29: #REF! | AD29: #REF! | AE29: #REF! | AF29: #REF! | AG29: 30 | AI29: 1500000 | AJ29: 166644322 | AK29: 3482000 | AL29: 3417000 | AN29: 65000 | AO29: 학업장려금 이중수혜가능
A30: 25 | B30: 여수시 | C30: 희망나래 | D30: 한울타리 | E30: 김성훈 | F30: 010529 | G30: 남 | H30: 전남 여수시 봉계대곡길 50, 105동 1501호 | I30: 대 | J30: 계명대학교 | K30: 컴퓨터공학과/컴퓨터공학부 | L30: 2 | M30: 010-4190-7374 | N30: 010-2021-7374 | O30: 기업은행 | P30: 193-103448-01-012 | Q30: 김성훈 | R30: 92.4 | S30: 0 | V30: 92 | W30: 차상위계층 | AA30: #REF! | AB30: #REF! | AC30: #REF! | AD30: #REF! | AE30: #REF! | AF30: #REF! | AG30: 28 | AI30: 1500000 | AJ30: 166589303 | AK30: 4129000 | AL30: 3000000 | AN30: 1129000 | AO30: 학업장려금 이중수혜가능
A31: 26 | B31: 여수시 | C31: 특별지정 | D31: 율촌현대 | E31: 최현원 | F31: 990101 | G31: 남 | H31: 전남 여수시 좌수영로 34 | I31: 대 | J31: 전주대학교 | K31: 금융보험학과/경영학부 | L31: 4 | M31: 010-3024-2785 | N31: 010-3385-2785 | O31: 농협 | P31: 351-0913-0047-23 | Q31: 최현원 | R31: 84.92 | S31: 95 | T31: 4.13 | U31: 4.5 | V31: 84.92 | W31: 혼합가입자 | Y31: 4명 | Z31: 95746 | AA31: 3 | AB31: 119635 | AC31: 135612 | AD31: 0.7 | AE31: 0.8 | AF31: 0.727 | AI31: 1500000 | AJ31: 143263437 | AN31: -
A32: 27 | B32: 여수시 | C32: 특별지정 | D32: 율촌현대 | E32: 문호연 | F32: 021001 | G32: 남 | H32: 전남 여수시 여문1로 90, 802동 509호 | I32: 대 | J32: 서울대학교 | K32: 화학생물공학부 | L32: 1 | M32: 010-9817-8648 | N32: 010-3621-8647 | O32: 농협 | P32: 351-0958-8795-93 | Q32: 문호연 | R32: 64.28 | S32: 97.7 | T32: 97.68 | U32: 100 | V32: 64.28 | W32: 직장가입자 | Y32: 4명 | Z32: 193360 | AA32: 8 | AB32: 203558 | AC32: 220987 | AD32: 1.2 | AE32: 1.3 | AF32: 1.2429 | AI32: 1500000 | AJ32: 15286462 | AK32: 2998000 | AL32: - | AN32: 2998000
A33: 28 | B33: 여수시 | C33: 특별지정 | D33: 율촌현대 | E33: 유가은 | F33: 040302 | G33: 여 | H33: 전남 여수시 상암로 72, 205호 | I33: 고 | J33: 여수충무고등학교 | L33: 2 | M33: 010-2030-2374 | N33: 010-4028-3340 | O33: 농협 | P33: 351-0536-6181-53 | Q33: 유가은 | R33: 100 | S33: 72.3 | T33: 72.3 | U33: 100 | V33: 100 | W33: 기초생활수급자 | X33: 생계급여 | AA33: #REF! | AB33: #REF! | AC33: #REF! | AD33: #REF! | AE33: #REF! | AF33: #REF! | AI33: 500000 | AN33: - | AO33: 수급자 성적 70점이상
A34: 29 | B34: 여수시 | C34: 특별지정 | D34: 율촌현대 | E34: 김서윤 | F34: 030925 | G34: 여 | H34: 전남 여수시 국동남5길 20-8, 2층(실거주지) | I34: 고 | J34: 진성여자고등학교 | K34: 사무행정과 | L34: 3 | M34: 010-2232-8049 | N34: 010-5606-8058 | O34: 하나은행 | P34: 010-223280-49407 | Q34: 김서윤 | R34: 96 | S34: 95 | T34: 95 | U34: 100 | V34: 96 | W34: 기초생활수급자 | X34: 주거급여 | AA34: #REF! | AB34: #REF! | AC34: #REF! | AD34: #REF! | AE34: #REF! | AF34: #REF! | AI34: 500000 | AN34: - | AO34: 이혼가정(모와 같이 거주-국동)
A35: 30 | B35: 여수시 | C35: 특별지정 | D35: 율촌현대 | E35: 박소연 | F35: 031224 | G35: 여 | H35: 전남 여수시 여문2로 197, 301동 512호(여서동, 현대아파트) | I35: 고 | J35: 진성여자고등학교 | K35: 사무행정과 | L35: 3 | M35: 010-7634-0208 | N35: 010-5640-0859 | O35: 국민은행 | P35: 786501-01-542794 | Q35: 박소연 | R35: 88 | S35: 91.4 | T35: 91.4 | U35: 100 | V35: 88 | W35: 직장가입자 | Y35: 2명 | Z35: 22640 | AA35: 1 | AB35: 23323 | AC35: 69016 | AD35: 0 | AE35: 0.65 | AF35: 0 | AI35: 500000 | AN35: -
A36: 31 | B36: 여수시 | C36: 특별지정 | D36: 율촌현대 | E36: 서민희 | F36: 041022 | G36: 여 | H36: 전남 여수시 용수1길 20-5 | I36: 고 | J36: 여수정보과학고등학교 | K36: 금융정보과 | L36: 2 | M36: 010-3375-5389 | N36: 010-3375-5389 | O36: 농협 | P36: 351-1000-2803-33 | Q36: 서민희 | R36: 79.52 | S36: 96.4 | T36: 96.4 | U36: 100 | V36: 79.52 | W36: 직장가입자 | Y36: 6명 | Z36: 197416 | AA36: 4 | AB36: 182541 | AC36: 206575 | AD36: 0.8 | AE36: 0.9 | AF36: 0.8619 | AI36: 500000 | AN36: - | AO36: 2020년 하반기 인재육성장학금 지원
A37: 32 | B37: 여수시 | C37: 특별지정 | D37: 율촌현대 | E37: 한종훈 | F37: 011125 | G37: 남 | H37: 전남 여수시 돌산읍 강남동로 46-25, 201동 703호 | I37: 대 | J37: 호남대학교 | K37: 외식조리학과 | L37: 2 | M37: 010-4109-7864 | N37: 010-6534-0707 | O37: 카카오뱅크 | P37: 3333-10-2750922 | Q37: 한종훈 | R37: 96 | S37: 98 | T37: 4.4 | U37: 4.5 | V37: 96 | W37: 기초생활수급자 | X37: 주거급여 | AA37: #REF! | AB37: #REF! | AC37: #REF! | AD37: #REF! | AE37: #REF! | AF37: #REF! | AI37: 222000 | AJ37: 165680447 | AK37: 3372000 | AL37: 3150000 | AN37: 222000 | AO37: 대출상환대상자(222,000원)
A38: 33 | B38: 여수시 | C38: 특별지정 | D38: 율촌현대 | E38: 공성준 | F38: 010326 | G38: 남 | H38: 전남 여수시 웅천남8로 23, 211동 1603호 | I38: 대 | J38: 한국교원대학교 | K38: 기술교육과 | L38: 2 | M38: 010-8615-9557 | N38: 010-6609-8557 | O38: 산업은행 | P38: 020-9200-0594-820 | Q38: 공성준 | R38: 88 | S38: 94 | T38: 4.09 | U38: 4.5 | V38: 88 | W38: 혼합가입자 | Y38: 4명 | Z38: 80710 | AA38: 1 | AB38: 88960 | AC38: 110271 | AD38: 0 | AE38: 0.65 | AF38: 0 | AI38: 1500000 | AJ38: 167419566 | AK38: 1800000 | AL38: - | AN38: 1800000 | AO38: 2020년 하반기 인재육성장학금 지원
A39: 34 | B39: 여수시 | C39: 아름드리 | D39: 특별격려 | E39: 박건희 | F39: 020908 | G39: 남 | H39: 전남 여수시 소라면 죽림로 10, 108동 301호 | I39: 대 | J39: 경남대학교 | K39: 전자공학과 | L39: 1 | M39: 010-8626-1190 | N39: 010-7616-1182 | O39: 새마을금고 | P39: 9002-1953-7675-7 | Q39: 박건희 | AI39: 500000 | AO39: 긴급지원 가정의 대학생
A40: 35 | B40: 순천시 | C40: 희망나래 | D40: 한울타리 | E40: 최영은 | F40: 071002 | G40: 여 | H40: 전남 순천시 서면 강청길 80, 204-201 | I40: 중 | J40: 순천여자중학교 | L40: 2 | M40: 010-5451-9764 | N40: 010-7142-3978 | O40: 농협 | P40: 356-1414-1926-83 | Q40: 최영은 | R40: 96.85 | S40: 0 | V40: 98 | W40: 기초생활수급자 | X40: 의료급여 | AA40: #REF! | AB40: #REF! | AC40: 특별지정 | AD40: #REF! | AE40: #REF! | AF40: #REF! | AG40: 28.25 | AI40: 300000 | AN40: 0
A41: 36 | B41: 순천시 | C41: 희망나래 | D41: 한울타리 | E41: 정설아 | F41: 070514 | G41: 여 | H41: 전남 순천시 상인제길 138-15, 102-401 | I41: 중 | J41: 순천남산중학교 | L41: 2 | M41: 010-5697-9871 | N41: 010-3408-1122 | O41: 농협 | P41: 356-0658-8665-13 | Q41: 정설아 | R41: 95 | S41: 0 | V41: 100 | W41: 기초생활수급자 | X41: 생계급여 | AA41: #REF! | AB41: #REF! | AC41: 특별지정 | AD41: #REF! | AE41: #REF! | AF41: #REF! | AG41: 25 | AI41: 300000 | AN41: 0
A42: 37 | B42: 순천시 | C42: 희망나래 | D42: 한울타리 | E42: 박예찬 | F42: 080311 | G42: 남 | H42: 전남 순천시 승주읍 서평내동1길 6 | I42: 중 | J42: 순천승주중학교 | L42: 1 | N42: 010-6888-2282 | O42: 우리 | P42: 1002-454-747511 | Q42: 박예찬 | R42: 92.65 | S42: 0 | V42: 92 | W42: 차상위계층 | AA42: #REF! | AB42: #REF! | AC42: 특별지정 | AD42: #REF! | AE42: #REF! | AF42: #REF! | AG42: 28.25 | AI42: 300000 | AN42: 0
A43: 38 | B43: 순천시 | C43: 희망나래 | D43: 한울타리 | E43: 한가인 | F43: 061006 | G43: 여 | H43: 전남 순천시 석현길 65, 503 | I43: 중 | J43: 순천여자중학교 | L43: 3 | N43: 010-4032-3752 | O43: 농협 | P43: 302-1490-3066-81 | Q43: 한가인 | R43: 90.45 | S43: 0 | V43: 96 | W43: 기초생활수급자 | X43: 주거급여 | AA43: #REF! | AB43: #REF! | AC43: 특별지정 | AD43: #REF! | AE43: #REF! | AF43: #REF! | AG43: 23.25 | AI43: 300000 | AN43: 0
A44: 39 | B44: 순천시 | C44: 희망나래 | D44: 한울타리 | E44: 손민 | F44: 010521 | G44: 남 | H44: 전남 순천시 연향2로 55, 102-1401 | I44: 대 | J44: 울산과학기술원 | K44: 화학과 | L44: 2 | M44: 010-9742-1330 | N44: 010-9256-1330 | O44: 국민 | P44: 493601-01-382672 | Q44: 손민 | R44: 98.5 | S44: 0 | V44: 100 | W44: 기초생활수급자 | X44: 생계급여 | AA44: #REF! | AB44: #REF! | AC44: 특별지정 | AD44: #REF! | AE44: #REF! | AF44: #REF! | AG44: 28.5 | AI44: 1500000 | AN44: 0
A45: 40 | B45: 순천시 | C45: 희망나래 | D45: 한울타리 | E45: 임효인 | F45: 980610 | G45: 여 | H45: 전남 순천시 왕궁길 60, 302-408 | I45: 대 | J45: 인제대학교 | K45: 디자인엔지니어링학과 | L45: 4 | M45: 010-5060-1511 | N45: 010-9884-1511 | O45: 농협 | P45: 356-1188-9503-43 | Q45: 임효인 | R45: 97.6 | S45: 0 | V45: 98 | W45: 기초생활수급자 | X45: 의료급여 | AA45: #REF! | AB45: #REF! | AC45: 특별지정 | AD45: #REF! | AE45: #REF! | AF45: #REF! | AG45: 29 | AI45: 1500000 | AN45: 0
A46: 41 | B46: 순천시 | C46: 희망나래 | D46: 한울타리 | E46: 박다원 | F46: 010520 | G46: 여 | H46: 전남 순천시 장선배기길 77, 501-609 | I46: 대 | J46: 청암대학교 | K46: 간호학과 | L46: 2 | M46: 010-7742-7552 | N46: 010-7336-7552 | O46: 농협 | P46: 302-1316-5188-01 | Q46: 박다원 | R46: 97.5 | S46: 0 | V46: 100 | W46: 기초생활수급자 | X46: 생계급여 | AA46: #REF! | AB46: #REF! | AC46: 특별지정 | AD46: #REF! | AE46: #REF! | AF46: #REF! | AG46: 27.5 | AI46: 1500000 | AN46: 0
A47: 42 | B47: 순천시 | C47: 희망나래 | D47: 한울타리 | E47: 한인식 | F47: 981031 | G47: 남 | H47: 전남 순천시 삼산로 22-4, 402호 | I47: 대 | J47: 순천대학교 | K47: 컴퓨터공학과 | L47: 3 | M47: 010-7465-6777 | O47: 국민 | P47: 944502-00-242098 | Q47: 한인식 | R47: 97 | S47: 0 | V47: 100 | W47: 기초생활수급자 | X47: 생계급여 | AA47: #REF! | AB47: #REF! | AC47: 특별지정 | AD47: #REF! | AE47: #REF! | AF47: #REF! | AG47: 27 | AI47: 1500000 | AN47: 0
A48: 43 | B48: 순천시 | C48: 희망나래 | D48: 한울타리 | E48: 김지혜 | F48: 020703 | G48: 여 | H48: 전남 순천시 인제산성길 19 | I48: 대 | J48: 청암대학교 | K48: 간호학과 | L48: 1 | M48: 010-6450-5674 | N48: 010-5271-5674 | O48: 농협 | P48: 351-1056-7435-03 | Q48: 김지혜 | R48: 96.75 | S48: 0 | V48: 100 | W48: 기초생활수급자 | X48: 생계급여 | AA48: #REF! | AB48: #REF! | AC48: 특별지정 | AD48: #REF! | AE48: #REF! | AF48: #REF! | AG48: 26.75 | AI48: 1500000 | AN48: 0
A49: 44 | B49: 순천시 | C49: 희망나래 | D49: 한울타리 | E49: 임선미 | F49: 980206 | G49: 여 | H49: 전남 순천시 팔마1길 26, 102-305 | I49: 대 | J49: 순천제일대학교 | K49: 멀티미디어과 | L49: 1 | M49: 010-3677-3571 | N49: 010-8533-3578 | O49: 농협 | P49: 302-0849-4040-41 | Q49: 임선미 | R49: 95.85 | S49: 0 | V49: 98 | W49: 기초생활수급자 | X49: 의료급여 | AA49: #REF! | AB49: #REF! | AC49: 특별지정 | AD49: #REF! | AE49: #REF! | AF49: #REF! | AG49: 27.25 | AI49: 1500000 | AN49: 0
A50: 45 | B50: 순천시 | C50: 희망나래 | D50: 한울타리 | E50: 김환희 | F50: 010703 | G50: 여 | H50: 전남 순천시 고지1길 57, 103-1502 | I50: 대 | J50: 호남대학교 | K50: 만화애니메이션학과 | L50: 2 | M50: 010-4522-7724 | N50: 010-6636-7724 | O50: 농협 | P50: 302-4522-7724-51 | Q50: 김환희 | R50: 95.85 | S50: 0 | V50: 98 | W50: 기초생활수급자 | X50: 보장시설 | AA50: #REF! | AB50: #REF! | AC50: 특별지정 | AD50: #REF! | AE50: #REF! | AF50: #REF! | AG50: 27.25 | AI50: 1500000 | AN50: 0
A51: 46 | B51: 순천시 | C51: 희망나래 | D51: 한울타리 | E51: 강정훈 | F51: 990715 | G51: 남 | H51: 전남 순천시 해룡면 기적의도서관길 90, 304-113 | I51: 대 | J51: 순천대학교 | K51: 공공인재학부 | L51: 3 | M51: 010-7199-0498 | N51: 010-3632-7536 | O51: 신한 | P51: 110-483-288257 | Q51: 강정훈 | R51: 95.45 | S51: 0 | V51: 96 | W51: 기초생활수급자 | X51: 주거급여 | AA51: #REF! | AB51: #REF! | AC51: 특별지정 | AD51: #REF! | AE51: #REF! | AF51: #REF! | AG51: 28.25 | AI51: 1500000 | AN51: 0
A52: 47 | B52: 순천시 | C52: 희망나래 | D52: 한울타리 | E52: 오유진 | F52: 010222 | G52: 여 | H52: 전남 순천시 봉화2길 105, 602-1506 | I52: 대 | J52: 순천대학교 | K52: 고분자화학공학부 | L52: 2 | M52: 010-6721-4416 | N52: 010-5066-1579 | O52: 신한 | P52: 110-489-734008 | Q52: 오유진 | R52: 91.4 | S52: 0 | V52: 92 | W52: 차상위계층 | AA52: #REF! | AB52: #REF! | AC52: 특별지정 | AD52: #REF! | AE52: #REF! | AF52: #REF! | AG52: 27 | AI52: 1500000 | AN52: 0
A53: 48 | B53: 순천시 | C53: 특별지정 | D53: 전남도시가스(소득) | E53: 이서희 | F53: 100411 | G53: 여 | H53: 전남 순천시 승주읍 서평내동2길 18 | I53: 초 | J53: 승주초등학교 | L53: 5 | N53: 010-4666-6552 | O53: 농협 | P53: 356-1197-0948-43 | Q53: 이서희 | R53: 100 | S53: 0 | V53: 100 | W53: 기초생활수급자 | X53: 생계급여 | AA53: #REF! | AB53: #REF! | AC53: 특별지정 | AD53: #REF! | AE53: #REF! | AF53: #REF! | AI53: 200000 | AN53: 0
A54: 49 | B54: 순천시 | C54: 특별지정 | D54: 전남도시가스(소득) | E54: 조민정 | F54: 110308 | G54: 여 | H54: 전남 순천시 왕궁길 55, 101-911 | I54: 초 | J54: 순천왕지초등학교 | L54: 4 | N54: 010-9485-9755 | O54: 신협 | P54: 132-107-883046 | Q54: 조민정 | R54: 100 | S54: 0 | V54: 100 | W54: 기초생활수급자 | X54: 생계급여 | AA54: #REF! | AB54: #REF! | AC54: 특별지정 | AD54: #REF! | AE54: #REF! | AF54: #REF! | AI54: 200000 | AN54: 0
A55: 50 | B55: 순천시 | C55: 특별지정 | D55: 전남도시가스(소득) | E55: 박승하 | F55: 090120 | G55: 여 | H55: 전남 순천시 도장안길 24, B-402 | I55: 초 | J55: 순천율산초등학교 | L55: 6 | N55: 010-6610-6288 | O55: 농협 | P55: 352-1468-9118-43 | Q55: 박승하 | R55: 96 | S55: 0 | V55: 96 | W55: 기초생활수급자 | X55: 주거급여 | AA55: #REF! | AB55: #REF! | AC55: 특별지정 | AD55: #REF! | AE55: #REF! | AF55: #REF! | AI55: 200000 | AN55: 0
A56: 51 | B56: 순천시 | C56: 특별지정 | D56: 전남도시가스(소득) | E56: 정고은 | F56: 090722 | G56: 여 | H56: 전남 순천시 둑실5길 25, 101-1105 | I56: 초 | J56: 순천성동초등학교 | L56: 6 | N56: 010-8706-0190 | O56: 농협 | P56: 312-0192-9894-21 | Q56: 정고은 | R56: 94 | S56: 0 | V56: 94 | W56: 기초생활수급자 | X56: 교육급여 | AA56: #REF! | AB56: #REF! | AC56: 특별지정 | AD56: #REF! | AE56: #REF! | AF56: #REF! | AI56: 200000 | AN56: 0
A57: 52 | B57: 순천시 | C57: 특별지정 | D57: 전남도시가스(소득) | E57: 서동유 | F57: 110216 | G57: 남 | H57: 전남 순천시 대대2길 21 | I57: 초 | J57: 순천도사초등학교 | L57: 4 | N57: 010-8326-2558 | O57: 농협 | P57: 302-0405-7144-71 | Q57: 서동유 | R57: 88 | S57: 0 | V57: 88 | W57: 직장가입자 | Y57: 3 | Z57: 68940 | AA57: 1 | AB57: 68940 | AC57: 89069 | AD57: 0 | AE57: 0.65 | AF57: 0 | AI57: 200000 | AN57: 0
A58: 53 | B58: 순천시 | C58: 특별지정 | D58: 전남도시가스(소득) | E58: 손지민 | F58: 080724 | G58: 여 | H58: 전남 순천시 승주읍 승평동길 50 | I58: 중 | J58: 순천승주중학교 | L58: 1 | N58: 010-6227-5535 | O58: 우체국 | P58: 503458-02-062287 | Q58: 손지민 | R58: 100 | S58: 0 | V58: 100 | W58: 기초생활수급자 | X58: 생계급여 | AA58: #REF! | AB58: #REF! | AC58: 특별지정 | AD58: #REF! | AE58: #REF! | AF58: #REF! | AI58: 300000 | AN58: 0
A59: 54 | B59: 순천시 | C59: 특별지정 | D59: 전남도시가스(소득) | E59: 김지훈 | F59: 080106 | G59: 남 | H59: 전남 순천시 조례1길 9, 107-504 | I59: 중 | J59: 순천팔마중학교 | L59: 1 | M59: 010-9770-2952 | N59: 010-9139-2952 | O59: 농협 | P59: 351-1097-8492-53 | Q59: 김지훈 | R59: 100 | S59: 0 | V59: 100 | W59: 기초생활수급자 | X59: 생계급여 | AA59: #REF! | AB59: #REF! | AC59: 특별지정 | AD59: #REF! | AE59: #REF! | AF59: #REF! | AI59: 300000 | AN59: 0
A60: 55 | B60: 순천시 | C60: 특별지정 | D60: 전남도시가스(소득) | E60: 서주원 | F60: 060919 | G60: 남 | H60: 전남 순천시 왕지3길 55, 103-1604 | I60: 중 | J60: 순천연향중학교 | L60: 3 | N60: 010-4608-9100 | O60: 새마을 | P60: 9002-1609-3641-3 | Q60: 서주원 | R60: 88 | S60: 0 | V60: 88 | W60: 직장가입자 | Y60: 3 | Z60: 34300 | AA60: 1 | AB60: 34300 | AC60: 89069 | AD60: 0 | AE60: 0.65 | AF60: 0 | AI60: 300000 | AN60: 0
A61: 56 | B61: 순천시 | C61: 특별지정 | D61: 전남도시가스(소득) | E61: 서인덕 | F61: 070409 | G61: 남 | H61: 전남 순처시 상인제길 138-15, 102-806 | I61: 중 | J61: 순천매산중학교 | L61: 2 | M61: 010-2963-5890 | N61: 010-2799-5890 | O61: 농협 | P61: 356-1442-6549-23 | Q61: 서인덕 | R61: 88 | S61: 0 | V61: 88 | W61: 지역가입자 | Y61: 4 | Z61: 47550 | AA61: 1 | AB61: 47550 | AC61: 99230 | AD61: 0 | AE61: 0.65 | AF61: 0 | AI61: 300000 | AN61: 0
A62: 57 | B62: 순천시 | C62: 특별지정 | D62: 전남도시가스(소득) | E62: 최정헌 | F62: 031224 | G62: 남 | H62: 전남 순천시 가곡길 95, 2-208 | I62: 고 | J62: 순천효산고등학교 | L62: 3 | M62: 010-3210-7283 | N62: 010-9123-7283 | O62: 농협 | P62: 302-1226-1558-31 | Q62: 최정헌 | R62: 100 | S62: 0 | V62: 100 | W62: 기초생활수급자 | X62: 생계급여 | AA62: #REF! | AB62: #REF! | AC62: 특별지정 | AD62: #REF! | AE62: #REF! | AF62: #REF! | AI62: 500000 | AN62: 0
A63: 58 | B63: 순천시 | C63: 특별지정 | D63: 전남도시가스(소득) | E63: 오윤채 | F63: 050406 | G63: 여 | H63: 전남 순천시 장선배기길 55, 102-707 | I63: 고 | J63: 순천강남여자고등학교 | L63: 1 | N63: 010-6479-3486 | O63: 농협 | P63: 352-1690-7331-83 | Q63: 오윤채 | R63: 100 | S63: 0 | V63: 100 | W63: 기초생활수급자 | X63: 생계급여 | AA63: #REF! | AB63: #REF! | AC63: 특별지정 | AD63: #REF! | AE63: #REF! | AF63: #REF! | AI63: 500000 | AN63: 0
A64: 59 | B64: 순천시 | C64: 특별지정 | D64: 전남도시가스(성적) | E64: 이연서 | F64: 050403 | G64: 여 | H64: 전남 순천시 조례1길 60, 103-309 | I64: 고 | J64: 순천여자고등학교 | L64: 1 | M64: 010-7676-0136 | N64: 010-7173-0408 | O64: 농협 | P64: 352-1430-5645-13 | Q64: 이연서 | R64: 94.232885 | S64: 99.3 | T64: 99.25 | U64: 100 | V64: 82.409616 | W64: 혼합가입자 | Y64: 5 | Z64: 159505 | AA64: 3 | AB64: 141396 | AC64: 161571 | AD64: 0.7 | AE64: 0.8 | AF64: 0.7897596 | AI64: 500000 | AN64: 0
A65: 60 | B65: 순천시 | C65: 특별지정 | D65: 전남도시가스(성적) | E65: 박수민 | F65: 030428 | G65: 여 | H65: 전남 순천시 도장길 50, 202-1205 | I65: 고 | J65: 순천제일고등학교 | L65: 3 | N65: 010-5057-6134 | O65: 농협 | P65: 352-0031-1160-13 | Q65: 박수민 | R65: 92.69 | S65: 94.7 | T65: 94.7 | U65: 100 | V65: 88 | W65: 직장가입자 | Y65: 4 | Z65: 71927 | AA65: 1 | AB65: 71927 | AC65: 109494 | AD65: 0 | AE65: 0.65 | AF65: 0 | AI65: 500000 | AN65: 0
A66: 61 | B66: 순천시 | C66: 특별지정 | D66: 전남도시가스(성적) | E66: 이시은 | F66: 000105 | G66: 여 | H66: 전남 순천시 대대1길 50 | I66: 대 | J66: 전남대학교 | K66: 의예과 | L66: 1 | M66: 010-6215-4639 | N66: 010-4872-4658 | O66: 농협 | P66: 351-0952-7512-13 | Q66: 이시은 | R66: 94.02 | S66: 96.6 | T66: 96.6 | U66: 100 | V66: 88 | W66: 직장가입자 | Y66: 4 | Z66: 51450 | AA66: 1 | AB66: 51450 | AC66: 109494 | AD66: 0 | AE66: 0.65 | AF66: 0 | AI66: 1500000 | AJ66: 0162139427 | AK66: 2709000 | AL66: 337500 | AM66: 0 | AN66: 2371500 | AO66: 대출상환대상자
A67: 62 | B67: 순천시 | C67: 특별지정 | D67: 전남도시가스(성적) | E67: 박정우 | F67: 000218 | G67: 여 | H67: 전남 순천시 삼산로 103-13 | I67: 대 | J67: 서울교육대학교 | K67: 초등교육과 | L67: 3 | M67: 010-2390-3842 | N67: 010-7159-3842 | O67: 농협 | P67: 356-1465-4362-73 | Q67: 박정우 | R67: 93.022862 | S67: 98 | T67: 4.43 | U67: 4.5 | V67: 81.409538 | W67: 지역가입자 | Y67: 4 | Z67: 129290 | AA67: 4 | AB67: 125647 | AC67: 150326 | AD67: 0.8 | AE67: 0.9 | AF67: 0.81476154 | AI67: 1219000 | AJ67: 0160130464 | AK67: 1544000 | AL67: 325000 | AM67: 0 | AN67: 1219000
A68: 63 | B68: 순천시 | C68: 특별지정 | D68: 율촌현대 | E68: 박정우 | F68: 040705 | G68: 남 | H68: 전남 순천시 이수1길 12 | I68: 고 | J68: 순천전자고등학교 | L68: 2 | N68: 010-8576-9817 | O68: 농협 | P68: 352-0702-4568-73 | Q68: 박정우 | R68: 100 | S68: 0 | V68: 100 | W68: 기초생활수급자 | X68: 생계급여 | AA68: #REF! | AB68: #REF! | AC68: 특별지정 | AD68: #REF! | AE68: #REF! | AF68: #REF! | AI68: 500000 | AN68: 0
A69: 64 | B69: 순천시 | C69: 특별지정 | D69: 율촌현대 | E69: 임수애 | F69: 050206 | G69: 여 | H69: 전남 순천시 가곡길 30, 101-1202 | I69: 고 | J69: 순천매산여자고등학교 | L69: 1 | M69: 010-4850-4620 | N69: 010-5477-3927 | O69: 농협 | P69: 302-1542-8862-71 | Q69: 임수애 | R69: 88 | S69: 0 | V69: 88 | W69: 혼합가입자 | Y69: 3 | Z69: 62483 | AA69: 1 | AB69: 62483 | AC69: 89626 | AD69: 0 | AE69: 0.65 | AF69: 0 | AI69: 500000 | AN69: 0
A70: 65 | B70: 순천시 | C70: 특별지정 | D70: 율촌현대 | E70: 최현아 | F70: 051116 | G70: 여 | H70: 전남 순천시 비봉2길 22, 107-511 | I70: 고 | J70: 순천매산여자고등학교 | L70: 1 | M70: 010-7507-6890 | N70: 010-4512-6890 | O70: 신한 | P70: 110-500-189202 | Q70: 최현아 | R70: 87.358207 | S70: 0 | V70: 87.358207 | W70: 직장가입자 | Y70: 4 | Z70: 112315 | AA70: 2 | AB70: 109494 | AC70: 118285 | AD70: 0.65 | AE70: 0.7 | AF70: 0.66604482 | AI70: 500000 | AN70: 0
A71: 66 | B71: 순천시 | C71: 특별지정 | D71: 율촌현대 | E71: 강소연 | F71: 050202 | G71: 여 | H71: 전남 순천시 도장길 40, 1205-1103 | I71: 고 | J71: 순천제일고등학교 | L71: 1 | M71: 010-2870-2242 | N71: 010-9886-2242 | O71: 농협 | P71: 352-1250-3424-73 | Q71: 강소연 | R71: 79.263584 | S71: 0 | V71: 79.263584 | W71: 지역가입자 | Y71: 4 | Z71: 142530 | AA71: 4 | AB71: 125647 | AC71: 150326 | AD71: 0.8 | AE71: 0.9 | AF71: 0.86841039 | AI71: 500000 | AN71: 0
A72: 67 | B72: 순천시 | C72: 특별지정 | D72: 율촌현대 | E72: 강산 | F72: 010120 | G72: 남 | H72: 전남 순천시 삼산로 92-50, 112-2203 | I72: 대 | J72: 광주교육대학교 | L72: 2 | M72: 010-5840-3115 | N72: 010-2375-3115 | O72: 농협 | P72: 352-1539-3742-43 | Q72: 강산 | R72: 88 | S72: 0 | V72: 88 | W72: 직장가입자 | Y72: 4 | Z72: 78200 | AA72: 1 | AB72: 78200 | AC72: 109494 | AD72: 0 | AE72: 0.65 | AF72: 0 | AI72: 1500000 | AJ72: 0168802627 | AK72: 1724000 | AL72: 0 | AM72: 0 | AN72: 1724000
A73: 68 | B73: 순천시 | C73: 특별지정 | D73: 율촌현대 | E73: 허정욱 | F73: 980624 | G73: 남 | H73: 전남 순천시 해룡면 좌야로 101, 102-2002 | I73: 대 | J73: 건국대학교 | K73: 행정학과 | L73: 3 | M73: 010-9520-6277 | N73: 010-3099-0579 | O73: 농협 | P73: 356-1185-2824-73 | Q73: 허정욱 | R73: 88 | S73: 0 | V73: 88 | W73: 직장가입자 | Y73: 4 | Z73: 119530 | AA73: 1 | AB73: 106017 | AC73: 109494 | AD73: 0 | AE73: 0.65 | AF73: 0 | AI73: 1500000 | AJ73: 0148888726 | AK73: 3316000 | AL73: 837500 | AM73: 0 | AN73: 2478500
A74: 69 | B74: 나주시 | C74: 희망나래 | D74: 한울타리 | E74: 이예슬 | F74: 081208 | G74: 여 | H74: 전남 나주시 봉황면 덕룡로 465-3 | I74: 중 | J74: 봉황중학교 | L74: 1 | M74: 010-2042-9171 | N74: 010-2042-9171 | O74: 농협 | P74: 352-1537-1808-63 | Q74: 이예슬 | R74: 100 | S74: 0 | V74: 100 | W74: 기초생활수급자 | X74: 생계급여 | AA74: #REF! | AB74: #REF! | AC74: #REF! | AD74: #REF! | AE74: #REF! | AF74: #REF! | AG74: 30 | AI74: 300000 | AN74: 0
A75: 70 | B75: 나주시 | C75: 희망나래 | D75: 한울타리 | E75: 이승교 | F75: 030722 | G75: 여 | H75: 전남 나주시 월정3길 17, 508동 905호 | I75: 고 | J75: 봉황고등학교 | L75: 3 | M75: 010-8669-7053 | N75: 010-3553-2269 | O75: 농협은행 | P75: 351-0049-1449-13 | Q75: 이승교 | R75: 98.8 | S75: 0 | V75: 100 | W75: 기초생활수급자 | X75: 생계급여 | AA75: #REF! | AB75: #REF! | AC75: #REF! | AD75: #REF! | AE75: #REF! | AF75: #REF! | AG75: 28.8 | AI75: 500000 | AN75: 0
A76: 71 | B76: 나주시 | C76: 희망나래 | D76: 한울타리 | E76: 배아영 | F76: 041202 | G76: 여 | H76: 전남 나주시 불로길 14-15 | I76: 고 | J76: 영산고등학교 | L76: 2 | M76: 010-3381-5345 | N76: 010-3999-2591 | O76: 농협 | P76: 356-1426-8596-33 | Q76: 배아영 | R76: 97.4 | S76: 0 | V76: 100 | W76: 기초생활수급자 | X76: 생계급여 | AA76: #REF! | AB76: #REF! | AC76: #REF! | AD76: #REF! | AE76: #REF! | AF76: #REF! | AG76: 27.4 | AI76: 500000 | AN76: 0
A77: 72 | B77: 나주시 | C77: 희망나래 | D77: 한울타리 | E77: 박소현 | F77: 020929 | G77: 여 | H77: 전남 나주시 왕곡면 화정마산길 31-53 | I77: 고 | J77: 봉황고등학교 | L77: 2 | M77: 010-8810-6140 | N77: 010-6353-6478 | O77: 농협은행 | P77: 351-0813-7065-33 | Q77: 박소현 | R77: 93 | S77: 0 | V77: 100 | W77: 기초생활수급자 | X77: 생계급여 | AA77: #REF! | AB77: #REF! | AC77: #REF! | AD77: #REF! | AE77: #REF! | AF77: #REF! | AG77: 23 | AI77: 500000 | AN77: 0
A78: 73 | B78: 나주시 | C78: 희망나래 | D78: 한울타리 | E78: 한예찬 | F78: 050327 | G78: 남 | H78: 전남 나주시 왕곡면 상석길 26-1 | I78: 고 | J78: 구림공업고등학교 | K78: 기계과 | L78: 1 | M78: 010-3622-6083 | N78: 010-3181-6083 | O78: 농협은행 | P78: 356-1125-9481-83 | Q78: 한예찬 | R78: 92.2 | S78: 0 | V78: 100 | W78: 기초생활수급자 | X78: 생계급여 | AA78: #REF! | AB78: #REF! | AC78: #REF! | AD78: #REF! | AE78: #REF! | AF78: #REF! | AG78: 22.2 | AI78: 500000 | AN78: 0
A79: 74 | B79: 나주시 | C79: 희망나래 | D79: 한울타리 | E79: 박진성 | F79: 960606 | G79: 남 | H79: 전남 나주시 월정3길 17, 510동 606호 | I79: 대 | J79: 동신대학교 | K79: 디지털콘텐츠 | L79: 4 | M79: 010-4062-9512 | N79: 010-3674-9566 | O79: 국민은행 | P79: 936402-00-033736 | Q79: 박진성 | R79: 97.8 | S79: 0 | V79: 100 | W79: 기초생활수급자 | X79: 생계급여 | AA79: #REF! | AB79: #REF! | AC79: #REF! | AD79: #REF! | AE79: #REF! | AF79: #REF! | AG79: 27.8 | AI79: 1500000 | AN79: 0
A80: 75 | B80: 나주시 | C80: 희망나래 | D80: 한울타리 | E80: 박원영 | F80: 000317 | G80: 여 | H80: 전남 나주시 골모실길 29-7 | I80: 대 | J80: 동신대학교 | K80: 언어치료학과 | L80: 3 | M80: 010-9832-0695 | N80: 010-6482-0695 | O80: 카카오뱅크 | P80: 3333-17-2871065 | Q80: 박원영 | R80: 97.2 | S80: 0 | V80: 100 | W80: 기초생활수급자 | X80: 생계급여 | AA80: #REF! | AB80: #REF! | AC80: #REF! | AD80: #REF! | AE80: #REF! | AF80: #REF! | AG80: 27.2 | AI80: 1500000 | AN80: 0
A81: 76 | B81: 나주시 | C81: 희망나래 | D81: 한울타리 | E81: 김지혜 | F81: 771002 | G81: 여 | H81: 전남 나주시 영산포로 97-13 | I81: 대 | J81: 동신대학교 | K81: 사회복지학과 | L81: 4 | M81: 010-7768-1585 | O81: 광주은행 | P81: 1121-021-528380 | Q81: 김지혜 | R81: 97.2 | S81: 0 | V81: 100 | W81: 기초생활수급자 | X81: 생계급여 | AA81: #REF! | AB81: #REF! | AC81: #REF! | AD81: #REF! | AE81: #REF! | AF81: #REF! | AG81: 27.2 | AI81: 1500000 | AN81: 0
A82: 77 | B82: 나주시 | C82: 희망나래 | D82: 한울타리 | E82: 김화원 | F82: 011129 | G82: 여 | H82: 전남 나주시 남평읍 남평3로 35, 새봄@ 1306호 | I82: 대 | J82: 조선대학교 | K82: 체육학과 | L82: 2 | M82: 010-5115-5409 | N82: 010-3173-5409 | O82: 카카오뱅크 | P82: 3333-15-2755371 | Q82: 김화원 | R82: 93.6 | S82: 0 | V82: 96 | W82: 기초생활수급자 | X82: 주거급여 | AA82: #REF! | AB82: #REF! | AC82: #REF! | AD82: #REF! | AE82: #REF! | AF82: #REF! | AG82: 26.4 | AI82: 1500000 | AN82: 0
A83: 78 | B83: 나주시 | C83: 희망나래 | D83: 한울타리 | E83: 노유민 | F83: 020813 | G83: 남 | H83: 전남 나주시 영산1길 26 | I83: 대 | J83: 목포대학교 | K83: 시회과학대학 행정학과 | L83: 1 | M83: 010-5215-2202 | N83: 010-5914-2202 | O83: 농협 | P83: 352-1381-4965-43 | Q83: 노유민 | R83: 89.6 | S83: 0 | V83: 96 | W83: 기초생활수급자 | X83: 주거급여 | AA83: #REF! | AB83: #REF! | AC83: #REF! | AD83: #REF! | AE83: #REF! | AF83: #REF! | AG83: 22.4 | AI83: 1500000 | AN83: 0
A84: 79 | B84: 나주시 | C84: 특별지정 | D84: 해양에너지 | E84: 김강민 | F84: 020131 | G84: 남 | H84: 전남 나주시 남평읍 수청길 62 | I84: 대 | J84: 건국대학교 | K84: 스마트운행체공학과 | L84: 1 | M84: 010-5334-8586 | N84: 010-9596-8586 | O84: 농협은행 | P84: 637024-56-036755 | Q84: 김강민 | R84: 88 | S84: 90.2 | T84: 90.16 | U84: 100 | V84: 88 | W84: 지역가입자 | Y84: 4 | Z84: 31570 | AA84: 1 | AB84: 31570 | AC84: 99230 | AD84: 0 | AE84: 0.65 | AF84: 0 | AI84: 1500000 | AJ84: 0177453705 | AK84: 4976000 | AL84: 2934000 | AN84: 2042000
A85: 80 | B85: 나주시 | C85: 특별지정 | D85: 해양에너지 | E85: 윤정은 | F85: 991102 | G85: 여 | H85: 전남 나주시 산포면 내기3길51-13 | I85: 대 | J85: 동신대학교 | K85: 보건복지대학 | L85: 4 | M85: 010-2436-1521 | N85: 010-3643-1521 | O85: 농협 | P85: 352-1538-9919-83 | Q85: 윤정은 | R85: 87.98593 | S85: 86 | T85: 3.29 | U85: 4.5 | V85: 87.98593 | W85: 지역가입자 | Y85: 4 | Z85: 99340 | AA85: 2 | AB85: 99230 | AC85: 114866 | AD85: 0.65 | AE85: 0.7 | AF85: 0.65035175 | AI85: 1500000 | AJ85: 0157203708 | AK85: 3327000 | AL85: 0 | AN85: 3327000
A86: 81 | B86: 나주시 | C86: 특별지정 | D86: 해양에너지 | E86: 김하은 | F86: 990822 | G86: 여 | H86: 전남 나주시 대호길 76-8, 104동 402호 | I86: 대 | J86: 성신여자대학교 | K86: 영어영문학과 | L86: 3 | M86: 010-8296-0774 | N86: 010-5370-0774 | O86: 국민은행 | P86: 798801-01-440233 | Q86: 김하은 | R86: 83.738215 | S86: 97 | T86: 4.31 | U86: 4.5 | V86: 83.738215 | W86: 직장가입자 | Y86: 4 | Z86: 127197 | AA86: 3 | AB86: 118285 | AC86: 134046 | AD86: 0.7 | AE86: 0.8 | AF86: 0.75654464 | AI86: 558000 | AJ86: 0155164932 | AK86: 3308000 | AL86: 2750000 | AN86: 558000
A87: 82 | B87: 나주시 | C87: 아름드리 | D87: 특별격려 | E87: 양은선 | F87: 000114 | G87: 여 | H87: 전남 나주시 대호길 10, 111-310 | I87: 대 | J87: 성신여자대학교 | K87: 중국어문문화학과 | L87: 3 | M87: 010-9222-0868 | N87: 010-5020-6666 | O87: 농협 | P87: 352-0972-9721-13 | Q87: 양은선 | S87: 0 | V87: 90 | AA87: #REF! | AB87: #REF! | AC87: #REF! | AD87: #REF! | AE87: #REF! | AF87: #REF! | AI87: 500000 | AN87: 0
A88: 83 | B88: 광양시 | C88: 희망나래 | D88: 한울타리 | E88: 정준수 | F88: 060623 | G88: 남 | H88: 전남 광양시 광장로 70, 215동 1101호 | I88: 중 | J88: 백운중 | L88: 3 | M88: 010-5538-1630 | N88: 010-5589-1630 | O88: 새마을 | P88: 9002-1900-7327-3 | Q88: 정준수 | R88: =IF(ISERROR(INDEX([1]평가지표!$C$5:$E$11,MATCH($D88,[1]평가지표!$B$5:$B$11,0),1)*$R88+INDEX([1]평가지표!$C$5:$E$11,MATCH($D88,[1]평가지표!$B$5:$B$11,0),2)*$U88+INDEX([1]평가지표!$C$5:$E$11,MATCH($D88,[1]평가지표!$B$5:$B$11,0),3)*$AF88),"",INDEX([1]평가지표!$C$5:$E$11,MATCH($D88,[1]평가지표!$B$5:$B$11,0),1)*$R88+INDEX([1]평가지표!$C$5:$E$11,MATCH($D88,[1]평가지표!$B$5:$B$11,0),2)*$U88+INDEX([1]평가지표!$C$5:$E$11,MATCH($D88,[1]평가지표!$B$5:$B$11,0),3)*$AF88) -> 96.6 | S88: =IF(ISERROR(ROUND(IF(U88=100,T88,INDEX('[1]성적 계산식'!$A$9:$A$36,COUNTIF(OFFSET('[1]성적 계산식'!$A$9:$A$36,0,MATCH($T88,'[1]성적 계산식'!$B$8:$C$8,0)),"<="&$S88))),1)),0,ROUND(IF(U88=100,T88,INDEX('[1]성적 계산식'!$A$9:$A$36,COUNTIF(OFFSET('[1]성적 계산식'!$A$9:$A$36,0,MATCH($T88,'[1]성적 계산식'!$B$8:$C$8,0)),"<="&$S88))),1)) -> 0 | V88: =IF($V88="기초생활수급자",INDEX([1]평가지표!$I$4:$J$8,MATCH($W88,기초생활수급자,0),2),IF($V88="차상위계층",92,IF($Y88=0,90,IF($AE88<65%,88,88-($AE88*100-65)*0.4)))) -> 98 | W88: 기초생활수급자 | X88: 의료급여 | Y88: 2 | AA88: =COUNTIF(OFFSET(INDIRECT("'"&$V88&"'!$A$2:$A$15"),0,$X88),"<="&$Y88) -> #REF! | AB88: =IF(INDEX(INDIRECT("'"&$V88&"'!$B$2:$K$15"),$Z88,$X88)=0,$Y88,INDEX(INDIRECT("'"&$V88&"'!$B$2:$K$15"),$Z88,$X88)) -> #REF! | AC88: =IF(ISERROR(INDEX(INDIRECT("'"&$V88&"'!$B$2:$K$15"),$Z88+1,$X88)),#REF!,INDEX(INDIRECT("'"&$V88&"'!$B$2:$K$15"),$Z88+1,$X88)) -> #REF! | AD88: =INDEX(INDIRECT("'"&$V88&"'!$A$2:$A$15"),$Z88) -> #REF! | AE88: =IF(ISERROR(INDEX(INDIRECT("'"&$V88&"'!$A$2:$A$15"),$Z88+1)),INDEX(INDIRECT("'"&$V88&"'!$A$2:$A$15"),$Z88),INDEX(INDIRECT("'"&$V88&"'!$A$2:$A$15"),$Z88+1)) -> #REF! | AF88: =$AC88+($AD88-$AC88)*($Y88-$AA88)/($AB88-$AA88) -> #REF! | AG88: 28 | AI88: 300000 | AN88: =IF($AL88>$AK88,$AJ88-$AL88,$AJ88-$AK88) -> 0
A89: 84 | B89: 광양시 | C89: 희망나래 | D89: 한울타리 | E89: 강경국 | F89: 080918 | G89: 남 | H89: 전남 광양시 평촌길75 | I89: 중 | J89: 백운중 | L89: 1 | M89: 010-5211-6092 | N89: 010-4926-6051 | O89: 농협 | P89: 351-0197-3290-63 | Q89: 강경국 | R89: =IF(ISERROR(INDEX([1]평가지표!$C$5:$E$11,MATCH($D89,[1]평가지표!$B$5:$B$11,0),1)*$R89+INDEX([1]평가지표!$C$5:$E$11,MATCH($D89,[1]평가지표!$B$5:$B$11,0),2)*$U89+INDEX([1]평가지표!$C$5:$E$11,MATCH($D89,[1]평가지표!$B$5:$B$11,0),3)*$AF89),"",INDEX([1]평가지표!$C$5:$E$11,MATCH($D89,[1]평가지표!$B$5:$B$11,0),1)*$R89+INDEX([1]평가지표!$C$5:$E$11,MATCH($D89,[1]평가지표!$B$5:$B$11,0),2)*$U89+INDEX([1]평가지표!$C$5:$E$11,MATCH($D89,[1]평가지표!$B$5:$B$11,0),3)*$AF89) -> 95 | S89: =IF(ISERROR(ROUND(IF(U89=100,T89,INDEX('[1]성적 계산식'!$A$9:$A$36,COUNTIF(OFFSET('[1]성적 계산식'!$A$9:$A$36,0,MATCH($T89,'[1]성적 계산식'!$B$8:$C$8,0)),"<="&$S89))),1)),0,ROUND(IF(U89=100,T89,INDEX('[1]성적 계산식'!$A$9:$A$36,COUNTIF(OFFSET('[1]성적 계산식'!$A$9:$A$36,0,MATCH($T89,'[1]성적 계산식'!$B$8:$C$8,0)),"<="&$S89))),1)) -> 0 | V89: =IF($V89="기초생활수급자",INDEX([1]평가지표!$I$4:$J$8,MATCH($W89,기초생활수급자,0),2),IF($V89="차상위계층",92,IF($Y89=0,90,IF($AE89<65%,88,88-($AE89*100-65)*0.4)))) -> 100 | W89: 기초생활수급자 | X89: 생계급여 | Y89: 3 | AA89: =COUNTIF(OFFSET(INDIRECT("'"&$V89&"'!$A$2:$A$15"),0,$X89),"<="&$Y89) -> #REF! | AB89: =IF(INDEX(INDIRECT("'"&$V89&"'!$B$2:$K$15"),$Z89,$X89)=0,$Y89,INDEX(INDIRECT("'"&$V89&"'!$B$2:$K$15"),$Z89,$X89)) -> #REF! | AC89: =IF(ISERROR(INDEX(INDIRECT("'"&$V89&"'!$B$2:$K$15"),$Z89+1,$X89)),#REF!,INDEX(INDIRECT("'"&$V89&"'!$B$2:$K$15"),$Z89+1,$X89)) -> #REF! | AD89: =INDEX(INDIRECT("'"&$V89&"'!$A$2:$A$15"),$Z89) -> #REF! | AE89: =IF(ISERROR(INDEX(INDIRECT("'"&$V89&"'!$A$2:$A$15"),$Z89+1)),INDEX(INDIRECT("'"&$V89&"'!$A$2:$A$15"),$Z89),INDEX(INDIRECT("'"&$V89&"'!$A$2:$A$15"),$Z89+1)) -> #REF! | AF89: =$AC89+($AD89-$AC89)*($Y89-$AA89)/($AB89-$AA89) -> #REF! | AG89: 25 | AI89: 300000 | AN89: =IF($AL89>$AK89,$AJ89-$AL89,$AJ89-$AK89) -> 0
A90: 85 | B90: 광양시 | C90: 희망나래 | D90: 한울타리 | E90: 박지아 | F90: 061013 | G90: 여 | H90: 전남 광양시 광장로70, 214동 1601호 | I90: 중 | J90: 백운중 | L90: 3 | M90: 010-8215-1312 | N90: 010-7155-1312 | O90: 농협 | P90: 302-1237-0212-41 | Q90: 박지아 | R90: =IF(ISERROR(INDEX([1]평가지표!$C$5:$E$11,MATCH($D90,[1]평가지표!$B$5:$B$11,0),1)*$R90+INDEX([1]평가지표!$C$5:$E$11,MATCH($D90,[1]평가지표!$B$5:$B$11,0),2)*$U90+INDEX([1]평가지표!$C$5:$E$11,MATCH($D90,[1]평가지표!$B$5:$B$11,0),3)*$AF90),"",INDEX([1]평가지표!$C$5:$E$11,MATCH($D90,[1]평가지표!$B$5:$B$11,0),1)*$R90+INDEX([1]평가지표!$C$5:$E$11,MATCH($D90,[1]평가지표!$B$5:$B$11,0),2)*$U90+INDEX([1]평가지표!$C$5:$E$11,MATCH($D90,[1]평가지표!$B$5:$B$11,0),3)*$AF90) -> 92.4 | S90: =IF(ISERROR(ROUND(IF(U90=100,T90,INDEX('[1]성적 계산식'!$A$9:$A$36,COUNTIF(OFFSET('[1]성적 계산식'!$A$9:$A$36,0,MATCH($T90,'[1]성적 계산식'!$B$8:$C$8,0)),"<="&$S90))),1)),0,ROUND(IF(U90=100,T90,INDEX('[1]성적 계산식'!$A$9:$A$36,COUNTIF(OFFSET('[1]성적 계산식'!$A$9:$A$36,0,MATCH($T90,'[1]성적 계산식'!$B$8:$C$8,0)),"<="&$S90))),1)) -> 0 | V90: =IF($V90="기초생활수급자",INDEX([1]평가지표!$I$4:$J$8,MATCH($W90,기초생활수급자,0),2),IF($V90="차상위계층",92,IF($Y90=0,90,IF($AE90<65%,88,88-($AE90*100-65)*0.4)))) -> 92 | W90: 차상위계층 | Y90: 4 | AA90: =COUNTIF(OFFSET(INDIRECT("'"&$V90&"'!$A$2:$A$15"),0,$X90),"<="&$Y90) -> #REF! | AB90: =IF(INDEX(INDIRECT("'"&$V90&"'!$B$2:$K$15"),$Z90,$X90)=0,$Y90,INDEX(INDIRECT("'"&$V90&"'!$B$2:$K$15"),$Z90,$X90)) -> #REF! | AC90: =IF(ISERROR(INDEX(INDIRECT("'"&$V90&"'!$B$2:$K$15"),$Z90+1,$X90)),#REF!,INDEX(INDIRECT("'"&$V90&"'!$B$2:$K$15"),$Z90+1,$X90)) -> #REF! | AD90: =INDEX(INDIRECT("'"&$V90&"'!$A$2:$A$15"),$Z90) -> #REF! | AE90: =IF(ISERROR(INDEX(INDIRECT("'"&$V90&"'!$A$2:$A$15"),$Z90+1)),INDEX(INDIRECT("'"&$V90&"'!$A$2:$A$15"),$Z90),INDEX(INDIRECT("'"&$V90&"'!$A$2:$A$15"),$Z90+1)) -> #REF! | AF90: =$AC90+($AD90-$AC90)*($Y90-$AA90)/($AB90-$AA90) -> #REF! | AG90: 28 | AI90: 300000 | AN90: =IF($AL90>$AK90,$AJ90-$AL90,$AJ90-$AK90) -> 0
A91: 86 | B91: 광양시 | C91: 희망나래 | D91: 한울타리 | E91: 이수민 | F91: 060223 | G91: 남 | H91: 전남 광양읍 서산길43, 104동 701호 | I91: 중 | J91: 광양중 | L91: 3 | M91: 010-5125-3253 | N91: 010-4828-2269 | O91: 농협 | P91: 351-1190-4381-13 | Q91: 이수민 | R91: =IF(ISERROR(INDEX([1]평가지표!$C$5:$E$11,MATCH($D91,[1]평가지표!$B$5:$B$11,0),1)*$R91+INDEX([1]평가지표!$C$5:$E$11,MATCH($D91,[1]평가지표!$B$5:$B$11,0),2)*$U91+INDEX([1]평가지표!$C$5:$E$11,MATCH($D91,[1]평가지표!$B$5:$B$11,0),3)*$AF91),"",INDEX([1]평가지표!$C$5:$E$11,MATCH($D91,[1]평가지표!$B$5:$B$11,0),1)*$R91+INDEX([1]평가지표!$C$5:$E$11,MATCH($D91,[1]평가지표!$B$5:$B$11,0),2)*$U91+INDEX([1]평가지표!$C$5:$E$11,MATCH($D91,[1]평가지표!$B$5:$B$11,0),3)*$AF91) -> 91.8 | S91: =IF(ISERROR(ROUND(IF(U91=100,T91,INDEX('[1]성적 계산식'!$A$9:$A$36,COUNTIF(OFFSET('[1]성적 계산식'!$A$9:$A$36,0,MATCH($T91,'[1]성적 계산식'!$B$8:$C$8,0)),"<="&$S91))),1)),0,ROUND(IF(U91=100,T91,INDEX('[1]성적 계산식'!$A$9:$A$36,COUNTIF(OFFSET('[1]성적 계산식'!$A$9:$A$36,0,MATCH($T91,'[1]성적 계산식'!$B$8:$C$8,0)),"<="&$S91))),1)) -> 0 | V91: =IF($V91="기초생활수급자",INDEX([1]평가지표!$I$4:$J$8,MATCH($W91,기초생활수급자,0),2),IF($V91="차상위계층",92,IF($Y91=0,90,IF($AE91<65%,88,88-($AE91*100-65)*0.4)))) -> 94 | W91: 기초생활수급자 | X91: 교육급여 | Y91: 3 | AA91: =COUNTIF(OFFSET(INDIRECT("'"&$V91&"'!$A$2:$A$15"),0,$X91),"<="&$Y91) -> #REF! | AB91: =IF(INDEX(INDIRECT("'"&$V91&"'!$B$2:$K$15"),$Z91,$X91)=0,$Y91,INDEX(INDIRECT("'"&$V91&"'!$B$2:$K$15"),$Z91,$X91)) -> #REF! | AC91: =IF(ISERROR(INDEX(INDIRECT("'"&$V91&"'!$B$2:$K$15"),$Z91+1,$X91)),#REF!,INDEX(INDIRECT("'"&$V91&"'!$B$2:$K$15"),$Z91+1,$X91)) -> #REF! | AD91: =INDEX(INDIRECT("'"&$V91&"'!$A$2:$A$15"),$Z91) -> #REF! | AE91: =IF(ISERROR(INDEX(INDIRECT("'"&$V91&"'!$A$2:$A$15"),$Z91+1)),INDEX(INDIRECT("'"&$V91&"'!$A$2:$A$15"),$Z91),INDEX(INDIRECT("'"&$V91&"'!$A$2:$A$15"),$Z91+1)) -> #REF! | AF91: =$AC91+($AD91-$AC91)*($Y91-$AA91)/($AB91-$AA91) -> #REF! | AG91: 26 | AI91: 300000 | AN91: =IF($AL91>$AK91,$AJ91-$AL91,$AJ91-$AK91) -> 0
A92: 87 | B92: 광양시 | C92: 희망나래 | D92: 한울타리 | E92: 조수아 | F92: 080125 | G92: 여 | H92: 전남 광양시 광영로141, 104동 304호 | I92: 중 | J92: 광영중 | L92: 1 | M92: 010-4597-8225 | N92: 0107335-8225 | O92: 농협 | P92: 352-1235-3572-13 | Q92: 조수아 | R92: =IF(ISERROR(INDEX([1]평가지표!$C$5:$E$11,MATCH($D92,[1]평가지표!$B$5:$B$11,0),1)*$R92+INDEX([1]평가지표!$C$5:$E$11,MATCH($D92,[1]평가지표!$B$5:$B$11,0),2)*$U92+INDEX([1]평가지표!$C$5:$E$11,MATCH($D92,[1]평가지표!$B$5:$B$11,0),3)*$AF92),"",INDEX([1]평가지표!$C$5:$E$11,MATCH($D92,[1]평가지표!$B$5:$B$11,0),1)*$R92+INDEX([1]평가지표!$C$5:$E$11,MATCH($D92,[1]평가지표!$B$5:$B$11,0),2)*$U92+INDEX([1]평가지표!$C$5:$E$11,MATCH($D92,[1]평가지표!$B$5:$B$11,0),3)*$AF92) -> 91.4 | S92: =IF(ISERROR(ROUND(IF(U92=100,T92,INDEX('[1]성적 계산식'!$A$9:$A$36,COUNTIF(OFFSET('[1]성적 계산식'!$A$9:$A$36,0,MATCH($T92,'[1]성적 계산식'!$B$8:$C$8,0)),"<="&$S92))),1)),0,ROUND(IF(U92=100,T92,INDEX('[1]성적 계산식'!$A$9:$A$36,COUNTIF(OFFSET('[1]성적 계산식'!$A$9:$A$36,0,MATCH($T92,'[1]성적 계산식'!$B$8:$C$8,0)),"<="&$S92))),1)) -> 0 | V92: =IF($V92="기초생활수급자",INDEX([1]평가지표!$I$4:$J$8,MATCH($W92,기초생활수급자,0),2),IF($V92="차상위계층",92,IF($Y92=0,90,IF($AE92<65%,88,88-($AE92*100-65)*0.4)))) -> 92 | W92: 차상위계층 | Y92: 2 | AA92: =COUNTIF(OFFSET(INDIRECT("'"&$V92&"'!$A$2:$A$15"),0,$X92),"<="&$Y92) -> #REF! | AB92: =IF(INDEX(INDIRECT("'"&$V92&"'!$B$2:$K$15"),$Z92,$X92)=0,$Y92,INDEX(INDIRECT("'"&$V92&"'!$B$2:$K$15"),$Z92,$X92)) -> #REF! | AC92: =IF(ISERROR(INDEX(INDIRECT("'"&$V92&"'!$B$2:$K$15"),$Z92+1,$X92)),#REF!,INDEX(INDIRECT("'"&$V92&"'!$B$2:$K$15"),$Z92+1,$X92)) -> #REF! | AD92: =INDEX(INDIRECT("'"&$V92&"'!$A$2:$A$15"),$Z92) -> #REF! | AE92: =IF(ISERROR(INDEX(INDIRECT("'"&$V92&"'!$A$2:$A$15"),$Z92+1)),INDEX(INDIRECT("'"&$V92&"'!$A$2:$A$15"),$Z92),INDEX(INDIRECT("'"&$V92&"'!$A$2:$A$15"),$Z92+1)) -> #REF! | AF92: =$AC92+($AD92-$AC92)*($Y92-$AA92)/($AB92-$AA92) -> #REF! | AG92: 27 | AI92: 300000 | AN92: =IF($AL92>$AK92,$AJ92-$AL92,$AJ92-$AK92) -> 0
A93: 88 | B93: 광양시 | C93: 희망나래 | D93: 한울타리 | E93: 정유은 | F93: 080304 | G93: 여 | H93: 전남 광양시 광장로112-20, 105동 1204호 | I93: 중 | J93: 백운중 | L93: 1 | M93: 010-4475-7949 | N93: 010-4475-7949 | O93: 신한은행 | P93: 110-526-029565 | Q93: 정유은 | R93: =IF(ISERROR(INDEX([1]평가지표!$C$5:$E$11,MATCH($D93,[1]평가지표!$B$5:$B$11,0),1)*$R93+INDEX([1]평가지표!$C$5:$E$11,MATCH($D93,[1]평가지표!$B$5:$B$11,0),2)*$U93+INDEX([1]평가지표!$C$5:$E$11,MATCH($D93,[1]평가지표!$B$5:$B$11,0),3)*$AF93),"",INDEX([1]평가지표!$C$5:$E$11,MATCH($D93,[1]평가지표!$B$5:$B$11,0),1)*$R93+INDEX([1]평가지표!$C$5:$E$11,MATCH($D93,[1]평가지표!$B$5:$B$11,0),2)*$U93+INDEX([1]평가지표!$C$5:$E$11,MATCH($D93,[1]평가지표!$B$5:$B$11,0),3)*$AF93) -> 90.2 | S93: =IF(ISERROR(ROUND(IF(U93=100,T93,INDEX('[1]성적 계산식'!$A$9:$A$36,COUNTIF(OFFSET('[1]성적 계산식'!$A$9:$A$36,0,MATCH($T93,'[1]성적 계산식'!$B$8:$C$8,0)),"<="&$S93))),1)),0,ROUND(IF(U93=100,T93,INDEX('[1]성적 계산식'!$A$9:$A$36,COUNTIF(OFFSET('[1]성적 계산식'!$A$9:$A$36,0,MATCH($T93,'[1]성적 계산식'!$B$8:$C$8,0)),"<="&$S93))),1)) -> 0 | V93: =IF($V93="기초생활수급자",INDEX([1]평가지표!$I$4:$J$8,MATCH($W93,기초생활수급자,0),2),IF($V93="차상위계층",92,IF($Y93=0,90,IF($AE93<65%,88,88-($AE93*100-65)*0.4)))) -> 96 | W93: 기초생활수급자 | X93: 주거급여 | Y93: 5 | AA93: =COUNTIF(OFFSET(INDIRECT("'"&$V93&"'!$A$2:$A$15"),0,$X93),"<="&$Y93) -> #REF! | AB93: =IF(INDEX(INDIRECT("'"&$V93&"'!$B$2:$K$15"),$Z93,$X93)=0,$Y93,INDEX(INDIRECT("'"&$V93&"'!$B$2:$K$15"),$Z93,$X93)) -> #REF! | AC93: =IF(ISERROR(INDEX(INDIRECT("'"&$V93&"'!$B$2:$K$15"),$Z93+1,$X93)),#REF!,INDEX(INDIRECT("'"&$V93&"'!$B$2:$K$15"),$Z93+1,$X93)) -> #REF! | AD93: =INDEX(INDIRECT("'"&$V93&"'!$A$2:$A$15"),$Z93) -> #REF! | AE93: =IF(ISERROR(INDEX(INDIRECT("'"&$V93&"'!$A$2:$A$15"),$Z93+1)),INDEX(INDIRECT("'"&$V93&"'!$A$2:$A$15"),$Z93),INDEX(INDIRECT("'"&$V93&"'!$A$2:$A$15"),$Z93+1)) -> #REF! | AF93: =$AC93+($AD93-$AC93)*($Y93-$AA93)/($AB93-$AA93) -> #REF! | AG93: 23 | AI93: 300000 | AN93: =IF($AL93>$AK93,$AJ93-$AL93,$AJ93-$AK93) -> 0
A94: 89 | B94: 광양시 | C94: 희망나래 | D94: 한울타리 | E94: 고은하 | F94: 081108 | G94: 여 | H94: 전남 광양시 광장로70, 211동 701호 | I94: 중 | J94: 광양중 | L94: 1 | N94: 010-6789-9191 | O94: 농협 | P94: 302-0131-8546-61 | Q94: 고은하 | R94: =IF(ISERROR(INDEX([1]평가지표!$C$5:$E$11,MATCH($D94,[1]평가지표!$B$5:$B$11,0),1)*$R94+INDEX([1]평가지표!$C$5:$E$11,MATCH($D94,[1]평가지표!$B$5:$B$11,0),2)*$U94+INDEX([1]평가지표!$C$5:$E$11,MATCH($D94,[1]평가지표!$B$5:$B$11,0),3)*$AF94),"",INDEX([1]평가지표!$C$5:$E$11,MATCH($D94,[1]평가지표!$B$5:$B$11,0),1)*$R94+INDEX([1]평가지표!$C$5:$E$11,MATCH($D94,[1]평가지표!$B$5:$B$11,0),2)*$U94+INDEX([1]평가지표!$C$5:$E$11,MATCH($D94,[1]평가지표!$B$5:$B$11,0),3)*$AF94) -> 89.4 | S94: =IF(ISERROR(ROUND(IF(U94=100,T94,INDEX('[1]성적 계산식'!$A$9:$A$36,COUNTIF(OFFSET('[1]성적 계산식'!$A$9:$A$36,0,MATCH($T94,'[1]성적 계산식'!$B$8:$C$8,0)),"<="&$S94))),1)),0,ROUND(IF(U94=100,T94,INDEX('[1]성적 계산식'!$A$9:$A$36,COUNTIF(OFFSET('[1]성적 계산식'!$A$9:$A$36,0,MATCH($T94,'[1]성적 계산식'!$B$8:$C$8,0)),"<="&$S94))),1)) -> 0 | V94: =IF($V94="기초생활수급자",INDEX([1]평가지표!$I$4:$J$8,MATCH($W94,기초생활수급자,0),2),IF($V94="차상위계층",92,IF($Y94=0,90,IF($AE94<65%,88,88-($AE94*100-65)*0.4)))) -> 92 | W94: 차상위계층 | Y94: 4 | AA94: =COUNTIF(OFFSET(INDIRECT("'"&$V94&"'!$A$2:$A$15"),0,$X94),"<="&$Y94) -> #REF! | AB94: =IF(INDEX(INDIRECT("'"&$V94&"'!$B$2:$K$15"),$Z94,$X94)=0,$Y94,INDEX(INDIRECT("'"&$V94&"'!$B$2:$K$15"),$Z94,$X94)) -> #REF! | AC94: =IF(ISERROR(INDEX(INDIRECT("'"&$V94&"'!$B$2:$K$15"),$Z94+1,$X94)),#REF!,INDEX(INDIRECT("'"&$V94&"'!$B$2:$K$15"),$Z94+1,$X94)) -> #REF! | AD94: =INDEX(INDIRECT("'"&$V94&"'!$A$2:$A$15"),$Z94) -> #REF! | AE94: =IF(ISERROR(INDEX(INDIRECT("'"&$V94&"'!$A$2:$A$15"),$Z94+1)),INDEX(INDIRECT("'"&$V94&"'!$A$2:$A$15"),$Z94),INDEX(INDIRECT("'"&$V94&"'!$A$2:$A$15"),$Z94+1)) -> #REF! | AF94: =$AC94+($AD94-$AC94)*($Y94-$AA94)/($AB94-$AA94) -> #REF! | AG94: 25 | AI94: 300000 | AN94: =IF($AL94>$AK94,$AJ94-$AL94,$AJ94-$AK94) -> 0
A95: 90 | B95: 광양시 | C95: 희망나래 | D95: 한울타리 | E95: 최준원 | F95: 061001 | G95: 남 | H95: 전남 광양읍 인덕로 1012, 306호 | I95: 중 | J95: 광양중 | L95: 3 | M95: 010-9039-7730 | N95: 010-4002-0514 | O95: 농협 | P95: 352-1666-1358-93 | Q95: 최준원 | R95: =IF(ISERROR(INDEX([1]평가지표!$C$5:$E$11,MATCH($D95,[1]평가지표!$B$5:$B$11,0),1)*$R95+INDEX([1]평가지표!$C$5:$E$11,MATCH($D95,[1]평가지표!$B$5:$B$11,0),2)*$U95+INDEX([1]평가지표!$C$5:$E$11,MATCH($D95,[1]평가지표!$B$5:$B$11,0),3)*$AF95),"",INDEX([1]평가지표!$C$5:$E$11,MATCH($D95,[1]평가지표!$B$5:$B$11,0),1)*$R95+INDEX([1]평가지표!$C$5:$E$11,MATCH($D95,[1]평가지표!$B$5:$B$11,0),2)*$U95+INDEX([1]평가지표!$C$5:$E$11,MATCH($D95,[1]평가지표!$B$5:$B$11,0),3)*$AF95) -> 85.8 | S95: =IF(ISERROR(ROUND(IF(U95=100,T95,INDEX('[1]성적 계산식'!$A$9:$A$36,COUNTIF(OFFSET('[1]성적 계산식'!$A$9:$A$36,0,MATCH($T95,'[1]성적 계산식'!$B$8:$C$8,0)),"<="&$S95))),1)),0,ROUND(IF(U95=100,T95,INDEX('[1]성적 계산식'!$A$9:$A$36,COUNTIF(OFFSET('[1]성적 계산식'!$A$9:$A$36,0,MATCH($T95,'[1]성적 계산식'!$B$8:$C$8,0)),"<="&$S95))),1)) -> 0 | V95: =IF($V95="기초생활수급자",INDEX([1]평가지표!$I$4:$J$8,MATCH($W95,기초생활수급자,0),2),IF($V95="차상위계층",92,IF($Y95=0,90,IF($AE95<65%,88,88-($AE95*100-65)*0.4)))) -> 94 | W95: 기초생활수급자 | X95: 교육급여 | Y95: 3 | AA95: =COUNTIF(OFFSET(INDIRECT("'"&$V95&"'!$A$2:$A$15"),0,$X95),"<="&$Y95) -> #REF! | AB95: =IF(INDEX(INDIRECT("'"&$V95&"'!$B$2:$K$15"),$Z95,$X95)=0,$Y95,INDEX(INDIRECT("'"&$V95&"'!$B$2:$K$15"),$Z95,$X95)) -> #REF! | AC95: =IF(ISERROR(INDEX(INDIRECT("'"&$V95&"'!$B$2:$K$15"),$Z95+1,$X95)),#REF!,INDEX(INDIRECT("'"&$V95&"'!$B$2:$K$15"),$Z95+1,$X95)) -> #REF! | AD95: =INDEX(INDIRECT("'"&$V95&"'!$A$2:$A$15"),$Z95) -> #REF! | AE95: =IF(ISERROR(INDEX(INDIRECT("'"&$V95&"'!$A$2:$A$15"),$Z95+1)),INDEX(INDIRECT("'"&$V95&"'!$A$2:$A$15"),$Z95),INDEX(INDIRECT("'"&$V95&"'!$A$2:$A$15"),$Z95+1)) -> #REF! | AF95: =$AC95+($AD95-$AC95)*($Y95-$AA95)/($AB95-$AA95) -> #REF! | AG95: 20 | AI95: 300000 | AN95: =IF($AL95>$AK95,$AJ95-$AL95,$AJ95-$AK95) -> 0
A96: 91 | B96: 광양시 | C96: 희망나래 | D96: 한울타리 | E96: 남현수 | F96: 030129 | G96: 남 | H96: 전남 광양시 금영로164, 101동 302호 | I96: 고 | J96: 항만물류고 | L96: 3 | M96: 010-5279-1168 | N96: 010-5208-1168 | O96: 농협 | P96: 531-0171-8110-03 | Q96: 남현수 | R96: =IF(ISERROR(INDEX([1]평가지표!$C$5:$E$11,MATCH($D96,[1]평가지표!$B$5:$B$11,0),1)*$R96+INDEX([1]평가지표!$C$5:$E$11,MATCH($D96,[1]평가지표!$B$5:$B$11,0),2)*$U96+INDEX([1]평가지표!$C$5:$E$11,MATCH($D96,[1]평가지표!$B$5:$B$11,0),3)*$AF96),"",INDEX([1]평가지표!$C$5:$E$11,MATCH($D96,[1]평가지표!$B$5:$B$11,0),1)*$R96+INDEX([1]평가지표!$C$5:$E$11,MATCH($D96,[1]평가지표!$B$5:$B$11,0),2)*$U96+INDEX([1]평가지표!$C$5:$E$11,MATCH($D96,[1]평가지표!$B$5:$B$11,0),3)*$AF96) -> 99 | S96: =IF(ISERROR(ROUND(IF(U96=100,T96,INDEX('[1]성적 계산식'!$A$9:$A$36,COUNTIF(OFFSET('[1]성적 계산식'!$A$9:$A$36,0,MATCH($T96,'[1]성적 계산식'!$B$8:$C$8,0)),"<="&$S96))),1)),0,ROUND(IF(U96=100,T96,INDEX('[1]성적 계산식'!$A$9:$A$36,COUNTIF(OFFSET('[1]성적 계산식'!$A$9:$A$36,0,MATCH($T96,'[1]성적 계산식'!$B$8:$C$8,0)),"<="&$S96))),1)) -> 0 | V96: =IF($V96="기초생활수급자",INDEX([1]평가지표!$I$4:$J$8,MATCH($W96,기초생활수급자,0),2),IF($V96="차상위계층",92,IF($Y96=0,90,IF($AE96<65%,88,88-($AE96*100-65)*0.4)))) -> 100 | W96: 기초생활수급자 | X96: 생계급여 | Y96: 4 | AA96: =COUNTIF(OFFSET(INDIRECT("'"&$V96&"'!$A$2:$A$15"),0,$X96),"<="&$Y96) -> #REF! | AB96: =IF(INDEX(INDIRECT("'"&$V96&"'!$B$2:$K$15"),$Z96,$X96)=0,$Y96,INDEX(INDIRECT("'"&$V96&"'!$B$2:$K$15"),$Z96,$X96)) -> #REF! | AC96: =IF(ISERROR(INDEX(INDIRECT("'"&$V96&"'!$B$2:$K$15"),$Z96+1,$X96)),#REF!,INDEX(INDIRECT("'"&$V96&"'!$B$2:$K$15"),$Z96+1,$X96)) -> #REF! | AD96: =INDEX(INDIRECT("'"&$V96&"'!$A$2:$A$15"),$Z96) -> #REF! | AE96: =IF(ISERROR(INDEX(INDIRECT("'"&$V96&"'!$A$2:$A$15"),$Z96+1)),INDEX(INDIRECT("'"&$V96&"'!$A$2:$A$15"),$Z96),INDEX(INDIRECT("'"&$V96&"'!$A$2:$A$15"),$Z96+1)) -> #REF! | AF96: =$AC96+($AD96-$AC96)*($Y96-$AA96)/($AB96-$AA96) -> #REF! | AG96: 29 | AI96: 500000 | AN96: =IF($AL96>$AK96,$AJ96-$AL96,$AJ96-$AK96) -> 0
A97: 92 | B97: 광양시 | C97: 희망나래 | D97: 한울타리 | E97: 양유은 | F97: 990127 | G97: 여 | H97: 광주 광역시 북구 반룡로6번길22, 403호 | I97: 대 | J97: 전남대 | K97: 윤리과학/사범대학 | L97: 4 | M97: 010-5157-1407 | N97: 010-9462-1409 | O97: 카카오 | P97: 3333-11-4133164 | Q97: 양유은 | R97: =IF(ISERROR(INDEX([1]평가지표!$C$5:$E$11,MATCH($D97,[1]평가지표!$B$5:$B$11,0),1)*$R97+INDEX([1]평가지표!$C$5:$E$11,MATCH($D97,[1]평가지표!$B$5:$B$11,0),2)*$U97+INDEX([1]평가지표!$C$5:$E$11,MATCH($D97,[1]평가지표!$B$5:$B$11,0),3)*$AF97),"",INDEX([1]평가지표!$C$5:$E$11,MATCH($D97,[1]평가지표!$B$5:$B$11,0),1)*$R97+INDEX([1]평가지표!$C$5:$E$11,MATCH($D97,[1]평가지표!$B$5:$B$11,0),2)*$U97+INDEX([1]평가지표!$C$5:$E$11,MATCH($D97,[1]평가지표!$B$5:$B$11,0),3)*$AF97) -> 99 | S97: =IF(ISERROR(ROUND(IF(U97=100,T97,INDEX('[1]성적 계산식'!$A$9:$A$36,COUNTIF(OFFSET('[1]성적 계산식'!$A$9:$A$36,0,MATCH($T97,'[1]성적 계산식'!$B$8:$C$8,0)),"<="&$S97))),1)),0,ROUND(IF(U97=100,T97,INDEX('[1]성적 계산식'!$A$9:$A$36,COUNTIF(OFFSET('[1]성적 계산식'!$A$9:$A$36,0,MATCH($T97,'[1]성적 계산식'!$B$8:$C$8,0)),"<="&$S97))),1)) -> 0 | V97: =IF($V97="기초생활수급자",INDEX([1]평가지표!$I$4:$J$8,MATCH($W97,기초생활수급자,0),2),IF($V97="차상위계층",92,IF($Y97=0,90,IF($AE97<65%,88,88-($AE97*100-65)*0.4)))) -> 100 | W97: 기초생활수급자 | X97: 생계급여 | Y97: 3 | AA97: =COUNTIF(OFFSET(INDIRECT("'"&$V97&"'!$A$2:$A$15"),0,$X97),"<="&$Y97) -> #REF! | AB97: =IF(INDEX(INDIRECT("'"&$V97&"'!$B$2:$K$15"),$Z97,$X97)=0,$Y97,INDEX(INDIRECT("'"&$V97&"'!$B$2:$K$15"),$Z97,$X97)) -> #REF! | AC97: =IF(ISERROR(INDEX(INDIRECT("'"&$V97&"'!$B$2:$K$15"),$Z97+1,$X97)),#REF!,INDEX(INDIRECT("'"&$V97&"'!$B$2:$K$15"),$Z97+1,$X97)) -> #REF! | AD97: =INDEX(INDIRECT("'"&$V97&"'!$A$2:$A$15"),$Z97) -> #REF! | AE97: =IF(ISERROR(INDEX(INDIRECT("'"&$V97&"'!$A$2:$A$15"),$Z97+1)),INDEX(INDIRECT("'"&$V97&"'!$A$2:$A$15"),$Z97),INDEX(INDIRECT("'"&$V97&"'!$A$2:$A$15"),$Z97+1)) -> #REF! | AF97: =$AC97+($AD97-$AC97)*($Y97-$AA97)/($AB97-$AA97) -> #REF! | AG97: 29 | AH97: 이중수혜가능 | AI97: 1500000 | AJ97: 0152158900 | AK97: 1719000 | AL97: 1719000 | AN97: =IF($AL97>$AK97,$AJ97-$AL97,$AJ97-$AK97) -> 150439900
A98: 93 | B98: 광양시 | C98: 희망나래 | D98: 한울타리 | E98: 진성은 | F98: 780724 | G98: 여 | H98: 전남 광양읍 대림오성로139, 103동 405호 | I98: 대 | J98: 순천제일대 | K98: 사회복지과 | L98: 1 | M98: 010-2519-7378 | O98: 농협 | P98: 611011-51-174953 | Q98: 진성은 | R98: =IF(ISERROR(INDEX([1]평가지표!$C$5:$E$11,MATCH($D98,[1]평가지표!$B$5:$B$11,0),1)*$R98+INDEX([1]평가지표!$C$5:$E$11,MATCH($D98,[1]평가지표!$B$5:$B$11,0),2)*$U98+INDEX([1]평가지표!$C$5:$E$11,MATCH($D98,[1]평가지표!$B$5:$B$11,0),3)*$AF98),"",INDEX([1]평가지표!$C$5:$E$11,MATCH($D98,[1]평가지표!$B$5:$B$11,0),1)*$R98+INDEX([1]평가지표!$C$5:$E$11,MATCH($D98,[1]평가지표!$B$5:$B$11,0),2)*$U98+INDEX([1]평가지표!$C$5:$E$11,MATCH($D98,[1]평가지표!$B$5:$B$11,0),3)*$AF98) -> 97 | S98: =IF(ISERROR(ROUND(IF(U98=100,T98,INDEX('[1]성적 계산식'!$A$9:$A$36,COUNTIF(OFFSET('[1]성적 계산식'!$A$9:$A$36,0,MATCH($T98,'[1]성적 계산식'!$B$8:$C$8,0)),"<="&$S98))),1)),0,ROUND(IF(U98=100,T98,INDEX('[1]성적 계산식'!$A$9:$A$36,COUNTIF(OFFSET('[1]성적 계산식'!$A$9:$A$36,0,MATCH($T98,'[1]성적 계산식'!$B$8:$C$8,0)),"<="&$S98))),1)) -> 0 | V98: =IF($V98="기초생활수급자",INDEX([1]평가지표!$I$4:$J$8,MATCH($W98,기초생활수급자,0),2),IF($V98="차상위계층",92,IF($Y98=0,90,IF($AE98<65%,88,88-($AE98*100-65)*0.4)))) -> 100 | W98: 기초생활수급자 | X98: 생계급여 | Y98: 4 | AA98: =COUNTIF(OFFSET(INDIRECT("'"&$V98&"'!$A$2:$A$15"),0,$X98),"<="&$Y98) -> #REF! | AB98: =IF(INDEX(INDIRECT("'"&$V98&"'!$B$2:$K$15"),$Z98,$X98)=0,$Y98,INDEX(INDIRECT("'"&$V98&"'!$B$2:$K$15"),$Z98,$X98)) -> #REF! | AC98: =IF(ISERROR(INDEX(INDIRECT("'"&$V98&"'!$B$2:$K$15"),$Z98+1,$X98)),#REF!,INDEX(INDIRECT("'"&$V98&"'!$B$2:$K$15"),$Z98+1,$X98)) -> #REF! | AD98: =INDEX(INDIRECT("'"&$V98&"'!$A$2:$A$15"),$Z98) -> #REF! | AE98: =IF(ISERROR(INDEX(INDIRECT("'"&$V98&"'!$A$2:$A$15"),$Z98+1)),INDEX(INDIRECT("'"&$V98&"'!$A$2:$A$15"),$Z98),INDEX(INDIRECT("'"&$V98&"'!$A$2:$A$15"),$Z98+1)) -> #REF! | AF98: =$AC98+($AD98-$AC98)*($Y98-$AA98)/($AB98-$AA98) -> #REF! | AG98: 27 | AH98: 이중수혜가능 | AI98: 1500000 | AJ98: 0169514703 | AK98: 2673400 | AL98: 2636400 | AN98: =IF($AL98>$AK98,$AJ98-$AL98,$AJ98-$AK98) -> 166841303
A99: 94 | B99: 광양시 | C99: 희망나래 | D99: 한울타리 | E99: 이지은 | F99: 970422 | G99: 여 | H99: 경기 고양시 일산동구일산로372번길58-28 | I99: 대 | J99: 배화여자대 | K99: 유아교육과 | L99: 3 | M99: 010-8461-0929 | N99: 010-5755-3328 | O99: 국민은행 | P99: 194602-04-193832 | Q99: 이지은 | R99: =IF(ISERROR(INDEX([1]평가지표!$C$5:$E$11,MATCH($D99,[1]평가지표!$B$5:$B$11,0),1)*$R99+INDEX([1]평가지표!$C$5:$E$11,MATCH($D99,[1]평가지표!$B$5:$B$11,0),2)*$U99+INDEX([1]평가지표!$C$5:$E$11,MATCH($D99,[1]평가지표!$B$5:$B$11,0),3)*$AF99),"",INDEX([1]평가지표!$C$5:$E$11,MATCH($D99,[1]평가지표!$B$5:$B$11,0),1)*$R99+INDEX([1]평가지표!$C$5:$E$11,MATCH($D99,[1]평가지표!$B$5:$B$11,0),2)*$U99+INDEX([1]평가지표!$C$5:$E$11,MATCH($D99,[1]평가지표!$B$5:$B$11,0),3)*$AF99) -> 97 | S99: =IF(ISERROR(ROUND(IF(U99=100,T99,INDEX('[1]성적 계산식'!$A$9:$A$36,COUNTIF(OFFSET('[1]성적 계산식'!$A$9:$A$36,0,MATCH($T99,'[1]성적 계산식'!$B$8:$C$8,0)),"<="&$S99))),1)),0,ROUND(IF(U99=100,T99,INDEX('[1]성적 계산식'!$A$9:$A$36,COUNTIF(OFFSET('[1]성적 계산식'!$A$9:$A$36,0,MATCH($T99,'[1]성적 계산식'!$B$8:$C$8,0)),"<="&$S99))),1)) -> 0 | V99: =IF($V99="기초생활수급자",INDEX([1]평가지표!$I$4:$J$8,MATCH($W99,기초생활수급자,0),2),IF($V99="차상위계층",92,IF($Y99=0,90,IF($AE99<65%,88,88-($AE99*100-65)*0.4)))) -> 100 | W99: 기초생활수급자 | X99: 생계급여 | Y99: 4 | AA99: =COUNTIF(OFFSET(INDIRECT("'"&$V99&"'!$A$2:$A$15"),0,$X99),"<="&$Y99) -> #REF! | AB99: =IF(INDEX(INDIRECT("'"&$V99&"'!$B$2:$K$15"),$Z99,$X99)=0,$Y99,INDEX(INDIRECT("'"&$V99&"'!$B$2:$K$15"),$Z99,$X99)) -> #REF! | AC99: =IF(ISERROR(INDEX(INDIRECT("'"&$V99&"'!$B$2:$K$15"),$Z99+1,$X99)),#REF!,INDEX(INDIRECT("'"&$V99&"'!$B$2:$K$15"),$Z99+1,$X99)) -> #REF! | AD99: =INDEX(INDIRECT("'"&$V99&"'!$A$2:$A$15"),$Z99) -> #REF! | AE99: =IF(ISERROR(INDEX(INDIRECT("'"&$V99&"'!$A$2:$A$15"),$Z99+1)),INDEX(INDIRECT("'"&$V99&"'!$A$2:$A$15"),$Z99),INDEX(INDIRECT("'"&$V99&"'!$A$2:$A$15"),$Z99+1)) -> #REF! | AF99: =$AC99+($AD99-$AC99)*($Y99-$AA99)/($AB99-$AA99) -> #REF! | AG99: 27 | AH99: 이중수혜가능 | AI99: 1500000 | AJ99: 0136710575 | AK99: 2695000 | AL99: 2229000 | AN99: =IF($AL99>$AK99,$AJ99-$AL99,$AJ99-$AK99) -> 134015575
A100: 95 | B100: 광양시 | C100: 희망나래 | D100: 한울타리 | E100: 박효준 | F100: 920106 | G100: 남 | H100: 전남 광양시 봉강면 하봉길 12 | I100: 대 | J100: 순천제일대 | K100: 사회복지과 | L100: 1 | M100: 010-5082-1608 | O100: 농협 | P100: 351-0342-1856-23 | Q100: 박효준 | R100: =IF(ISERROR(INDEX([1]평가지표!$C$5:$E$11,MATCH($D100,[1]평가지표!$B$5:$B$11,0),1)*$R100+INDEX([1]평가지표!$C$5:$E$11,MATCH($D100,[1]평가지표!$B$5:$B$11,0),2)*$U100+INDEX([1]평가지표!$C$5:$E$11,MATCH($D100,[1]평가지표!$B$5:$B$11,0),3)*$AF100),"",INDEX([1]평가지표!$C$5:$E$11,MATCH($D100,[1]평가지표!$B$5:$B$11,0),1)*$R100+INDEX([1]평가지표!$C$5:$E$11,MATCH($D100,[1]평가지표!$B$5:$B$11,0),2)*$U100+INDEX([1]평가지표!$C$5:$E$11,MATCH($D100,[1]평가지표!$B$5:$B$11,0),3)*$AF100) -> 94 | S100: =IF(ISERROR(ROUND(IF(U100=100,T100,INDEX('[1]성적 계산식'!$A$9:$A$36,COUNTIF(OFFSET('[1]성적 계산식'!$A$9:$A$36,0,MATCH($T100,'[1]성적 계산식'!$B$8:$C$8,0)),"<="&$S100))),1)),0,ROUND(IF(U100=100,T100,INDEX('[1]성적 계산식'!$A$9:$A$36,COUNTIF(OFFSET('[1]성적 계산식'!$A$9:$A$36,0,MATCH($T100,'[1]성적 계산식'!$B$8:$C$8,0)),"<="&$S100))),1)) -> 0 | V100: =IF($V100="기초생활수급자",INDEX([1]평가지표!$I$4:$J$8,MATCH($W100,기초생활수급자,0),2),IF($V100="차상위계층",92,IF($Y100=0,90,IF($AE100<65%,88,88-($AE100*100-65)*0.4)))) -> 100 | W100: 기초생활수급자 | X100: 생계급여 | Y100: 1 | AA100: =COUNTIF(OFFSET(INDIRECT("'"&$V100&"'!$A$2:$A$15"),0,$X100),"<="&$Y100) -> #REF! | AB100: =IF(INDEX(INDIRECT("'"&$V100&"'!$B$2:$K$15"),$Z100,$X100)=0,$Y100,INDEX(INDIRECT("'"&$V100&"'!$B$2:$K$15"),$Z100,$X100)) -> #REF! | AC100: =IF(ISERROR(INDEX(INDIRECT("'"&$V100&"'!$B$2:$K$15"),$Z100+1,$X100)),#REF!,INDEX(INDIRECT("'"&$V100&"'!$B$2:$K$15"),$Z100+1,$X100)) -> #REF! | AD100: =INDEX(INDIRECT("'"&$V100&"'!$A$2:$A$15"),$Z100) -> #REF! | AE100: =IF(ISERROR(INDEX(INDIRECT("'"&$V100&"'!$A$2:$A$15"),$Z100+1)),INDEX(INDIRECT("'"&$V100&"'!$A$2:$A$15"),$Z100),INDEX(INDIRECT("'"&$V100&"'!$A$2:$A$15"),$Z100+1)) -> #REF! | AF100: =$AC100+($AD100-$AC100)*($Y100-$AA100)/($AB100-$AA100) -> #REF! | AG100: 24 | AH100: 이중수혜가능 | AI100: 1500000 | AJ100: 0178457372 | AK100: 2673400 | AL100: 2636400 | AN100: =IF($AL100>$AK100,$AJ100-$AL100,$AJ100-$AK100) -> 175783972
A101: 96 | B101: 광양시 | C101: 특별지정 | D101: 전남도시가스(소득) | E101: 문강현 | F101: 090905 | G101: 남 | H101: 전남 광양읍 인서4길20, 105동 310호 | I101: 초 | J101: 덕례초 | L101: 6 | N101: 010-5354-3556 | O101: 농협 | P101: 352-1726-5382-63 | Q101: 문강현 | R101: =IF(ISERROR(INDEX([1]평가지표!$C$5:$E$11,MATCH($D101,[1]평가지표!$B$5:$B$11,0),1)*$R101+INDEX([1]평가지표!$C$5:$E$11,MATCH($D101,[1]평가지표!$B$5:$B$11,0),2)*$U101+INDEX([1]평가지표!$C$5:$E$11,MATCH($D101,[1]평가지표!$B$5:$B$11,0),3)*$AF101),"",INDEX([1]평가지표!$C$5:$E$11,MATCH($D101,[1]평가지표!$B$5:$B$11,0),1)*$R101+INDEX([1]평가지표!$C$5:$E$11,MATCH($D101,[1]평가지표!$B$5:$B$11,0),2)*$U101+INDEX([1]평가지표!$C$5:$E$11,MATCH($D101,[1]평가지표!$B$5:$B$11,0),3)*$AF101) -> 100 | S101: =IF(ISERROR(ROUND(IF(U101=100,T101,INDEX('[1]성적 계산식'!$A$9:$A$36,COUNTIF(OFFSET('[1]성적 계산식'!$A$9:$A$36,0,MATCH($T101,'[1]성적 계산식'!$B$8:$C$8,0)),"<="&$S101))),1)),0,ROUND(IF(U101=100,T101,INDEX('[1]성적 계산식'!$A$9:$A$36,COUNTIF(OFFSET('[1]성적 계산식'!$A$9:$A$36,0,MATCH($T101,'[1]성적 계산식'!$B$8:$C$8,0)),"<="&$S101))),1)) -> 0 | V101: =IF($V101="기초생활수급자",INDEX([1]평가지표!$I$4:$J$8,MATCH($W101,기초생활수급자,0),2),IF($V101="차상위계층",92,IF($Y101=0,90,IF($AE101<65%,88,88-($AE101*100-65)*0.4)))) -> 100 | W101: 기초생활수급자 | X101: 생계급여 | Y101: 4 | AA101: =COUNTIF(OFFSET(INDIRECT("'"&$V101&"'!$A$2:$A$15"),0,$X101),"<="&$Y101) -> #REF! | AB101: =IF(INDEX(INDIRECT("'"&$V101&"'!$B$2:$K$15"),$Z101,$X101)=0,$Y101,INDEX(INDIRECT("'"&$V101&"'!$B$2:$K$15"),$Z101,$X101)) -> #REF! | AC101: =IF(ISERROR(INDEX(INDIRECT("'"&$V101&"'!$B$2:$K$15"),$Z101+1,$X101)),$C$33,INDEX(INDIRECT("'"&$V101&"'!$B$2:$K$15"),$Z101+1,$X101)) -> 특별지정 | AD101: =INDEX(INDIRECT("'"&$V101&"'!$A$2:$A$15"),$Z101) -> #REF! | AE101: =IF(ISERROR(INDEX(INDIRECT("'"&$V101&"'!$A$2:$A$15"),$Z101+1)),INDEX(INDIRECT("'"&$V101&"'!$A$2:$A$15"),$Z101),INDEX(INDIRECT("'"&$V101&"'!$A$2:$A$15"),$Z101+1)) -> #REF! | AF101: =$AC101+($AD101-$AC101)*($Y101-$AA101)/($AB101-$AA101) -> #REF! | AI101: 200000
...

Sheet 2021년 상반기 장학생 선발 결과(종합)
A1: 2021년 행복둥지 장학생 선발 결과
A3: 연번 | B3: 신청구분 | D3: 시군 | E3: 학생 정보 | G3: 장학금
B4: 연도 | C4: 상/중/하반기 | E4: 성명 | F4: 생년월일
A5: 1 | B5: 2021 | C5: 중반기 | D5: 순천시 | E5: 황□섭 | F5: 9701** | G5: 1500000
A6: 2 | B6: 2021 | C6: 중반기 | D6: 무안군 | E6: 손□호 | F6: 9307** | G6: 1500000
A7: 3 | B7: 2021 | C7: 중반기 | D7: 무안군 | E7: 곽□영 | F7: 9903** | G7: 1500000
A8: 4 | B8: 2021 | C8: 중반기 | D8: 목포시 | E8: 최□주 | F8: 4005** | G8: 1500000
A9: 5 | B9: 2021 | C9: 중반기 | D9: 여수시 | E9: 이□연 | F9: 9908** | G9: 1500000
A10: 6 | B10: 2021 | C10: 중반기 | D10: 목포시 | E10: 우□연 | F10: 9708** | G10: 1500000
A11: 7 | B11: 2021 | C11: 중반기 | D11: 화순군 | E11: 고□완 | F11: 9711** | G11: 1500000
A12: 8 | B12: 2021 | C12: 중반기 | D12: 나주시 | E12: 최□아 | F12: 0108** | G12: 1500000
A13: 9 | B13: 2021 | C13: 중반기 | D13: 나주시 | E13: 이□현 | F13: 0204** | G13: 1500000
A14: 10 | B14: 2021 | C14: 중반기 | D14: 영암군 | E14: 박□영 | F14: 0201** | G14: 1500000
A15: 11 | B15: 2021 | C15: 중반기 | D15: 완도군 | E15: 김□루 | F15: 0208** | G15: 1500000
A16: 12 | B16: 2021 | C16: 중반기 | D16: 순천시 | E16: 주□희 | F16: 9903** | G16: 1500000
... A322: 318 | B322: 2021 | C322: 중반기 | D322: 순천시 | E322: 조□민 | F322: 9612** | G322: 500000
