Workbook
Name 기초생활수급자: [1]평가지표!$I$4:$I$8

Sheet 추천제(총괄)
A1: 2021년 상반기 전남인재육성 장학생 추천자 명단(총괄)
E3: 학생 정보 | O3: 계좌정보 | R3: 평점 | S3: 성적 평가 | V3: 소득 평가 | AG3: 에세이평가 (학숙생활) | AH3: 특이사항 | AI3: 장학금 수혜가능액 | AJ3: 이중지원방지시스템(한국장학재단) | AN3: 비고(기타 참고사항)
A4: 연번 | B4: 시군 | C4: 지원 분야 | D4: 구분 | E4: 성명 | F4: 생년월일 | G4: 성별 | H4: 주소 (전남+시·군+읍·면+도로명건물번호, 동·층·호) | I4: 학교 | J4: 학교명 | K4: 학과/학부 | L4: 학년 | M4: 본인 | N4: 보호자 | O4: 은행명 | P4: 계좌번호 | Q4: 예금주 | S4: 환산점수 | T4: 성적 | U4: 만점 | V4: 환산점수 | W4: 건강보험료 가입구분 | AA4: 건강보험료 산정구간 | AD4: 중위소득 산정 | AJ4: 한국장학재단 고객번호 | AK4: 등록금 | AL4: 장학금 | AM4: 선감면
W5: 가입구분 | X5: 수급자종류 | Y5: 가구원수 | Z5: 합산보헙료 | AA5: 위치 | AB5: 최소값 | AC5: 최대값 | AD5: 최소값 | AE5: 최대값 | AF5: 환산 중위소득
A6: 1 | B6: 목포시 | C6: 희망나래 | D6: 한울타리 | E6: 진아린 | F6: 060928 | G6: 여 | H6: 전남 목포시 용해지구로88번길 24, 401동 305호 | I6: 중 | J6: 청호중학교 | K6: - | L6: 3 | M6: 010-7196-1464 | N6: 010-7196-0005 | O6: 농협 | P6: 356-1232-3147-73 | Q6: 진아린 | R6: =IF(ISERROR(INDEX(#REF!,MATCH($D6,#REF!,0),1)*$S6+INDEX(#REF!,MATCH($D6,#REF!,0),2)*$V6+INDEX(#REF!,MATCH($D6,#REF!,0),3)*$AG6),"",INDEX(#REF!,MATCH($D6,#REF!,0),1)*$S6+INDEX(#REF!,MATCH($D6,#REF!,0),2)*$V6+INDEX(#REF!,MATCH($D6,#REF!,0),3)*$AG6) | S6: =IF(ISERROR(ROUND(IF(U6=100,T6,INDEX(#REF!,COUNTIF(OFFSET(#REF!,0,MATCH($U6,#REF!,0)),"<="&$T6))),1)),0,ROUND(IF(U6=100,T6,INDEX(#REF!,COUNTIF(OFFSET(#REF!,0,MATCH($U6,#REF!,0)),"<="&$T6))),1)) -> 0 | V6: =IF($W6="기초생활수급자",INDEX(#REF!,MATCH($X6,기초생활수급자,0),2),IF($W6="차상위계층",92,IF($Z6=0,90,IF($AF6<65%,88,88-($AF6*100-65)*0.4)))) -> #REF! | W6: 기초생활수급자 | X6: 생계급여 | Y6: 2 | Z6: 0 | AA6: =COUNTIF(OFFSET(INDIRECT("'"&$W6&"'!$A$2:$A$15"),0,$Y6),"<="&$Z6) -> #REF! | AB6: =IF(INDEX(INDIRECT("'"&$W6&"'!$B$2:$K$15"),$AA6,$Y6)=0,$Z6,INDEX(INDIRECT("'"&$W6&"'!$B$2:$K$15"),$AA6,$Y6)) -> #REF! | AC6: =IF(ISERROR(INDEX(INDIRECT("'"&$W6&"'!$B$2:$K$15"),$AA6+1,$Y6)),#REF!,INDEX(INDIRECT("'"&$W6&"'!$B$2:$K$15"),$AA6+1,$Y6)) -> #REF! | AD6: =INDEX(INDIRECT("'"&$W6&"'!$A$2:$A$15"),$AA6) -> #REF! | AE6: =IF(ISERROR(INDEX(INDIRECT("'"&$W6&"'!$A$2:$A$15"),$AA6+1)),INDEX(INDIRECT("'"&$W6&"'!$A$2:$A$15"),$AA6),INDEX(INDIRECT("'"&$W6&"'!$A$2:$A$15"),$AA6+1)) -> #REF! | AF6: =$AD6+($AE6-$AD6)*($Z6-$AB6)/($AC6-$AB6) -> #REF! | AG6: 19 | AI6: 300000
A7: 2 | B7: 목포시 | C7: 희망나래 | D7: 한울타리 | E7: 이성광 | F7: 060408 | G7: 남 | H7: 전남 목포시 죽산로16번길 3-1,302호 | I7: 중 | J7: 홍일중학교 | K7: - | L7: 3 | M7: 010-5899-8063 | N7: 010-5299-8063 | O7: 농협 | P7: 653016-56-104139 | Q7: 이성광 | R7: =IF(ISERROR(INDEX(#REF!,MATCH($D7,#REF!,0),1)*$S7+INDEX(#REF!,MATCH($D7,#REF!,0),2)*$V7+INDEX(#REF!,MATCH($D7,#REF!,0),3)*$AG7),"",INDEX(#REF!,MATCH($D7,#REF!,0),1)*$S7+INDEX(#REF!,MATCH($D7,#REF!,0),2)*$V7+INDEX(#REF!,MATCH($D7,#REF!,0),3)*$AG7) | S7: =IF(ISERROR(ROUND(IF(U7=100,T7,INDEX(#REF!,COUNTIF(OFFSET(#REF!,0,MATCH($U7,#REF!,0)),"<="&$T7))),1)),0,ROUND(IF(U7=100,T7,INDEX(#REF!,COUNTIF(OFFSET(#REF!,0,MATCH($U7,#REF!,0)),"<="&$T7))),1)) -> 0 | V7: =IF($W7="기초생활수급자",INDEX(#REF!,MATCH($X7,기초생활수급자,0),2),IF($W7="차상위계층",92,IF($Z7=0,90,IF($AF7<65%,88,88-($AF7*100-65)*0.4)))) -> #REF! | W7: 기초생활수급자 | X7: 생계급여 | Y7: 3 | Z7: 0 | AA7: =COUNTIF(OFFSET(INDIRECT("'"&$W7&"'!$A$2:$A$15"),0,$Y7),"<="&$Z7) -> #REF! | AB7: =IF(INDEX(INDIRECT("'"&$W7&"'!$B$2:$K$15"),$AA7,$Y7)=0,$Z7,INDEX(INDIRECT("'"&$W7&"'!$B$2:$K$15"),$AA7,$Y7)) -> #REF! | AC7: =IF(ISERROR(INDEX(INDIRECT("'"&$W7&"'!$B$2:$K$15"),$AA7+1,$Y7)),#REF!,INDEX(INDIRECT("'"&$W7&"'!$B$2:$K$15"),$AA7+1,$Y7)) -> #REF! | AD7: =INDEX(INDIRECT("'"&$W7&"'!$A$2:$A$15"),$AA7) -> #REF! | AE7: =IF(ISERROR(INDEX(INDIRECT("'"&$W7&"'!$A$2:$A$15"),$AA7+1)),INDEX(INDIRECT("'"&$W7&"'!$A$2:$A$15"),$AA7),INDEX(INDIRECT("'"&$W7&"'!$A$2:$A$15"),$AA7+1)) -> #REF! | AF7: =$AD7+($AE7-$AD7)*($Z7-$AB7)/($AC7-$AB7) -> #REF! | AG7: 21 | AI7: 300000
A8: 3 | B8: 목포시 | C8: 희망나래 | D8: 한울타리 | E8: 김성훈 | F8: 070702 | G8: 남 | H8: 전남 목포시 양을로141번길 6 | I8: 중 | J8: 홍일중학교 | K8: - | L8: 2 | M8: 010-7487-4739 | N8: 061-281-2255 | O8: 농협 | P8: 352-0589-1272-53 | Q8: 김성훈 | R8: =IF(ISERROR(INDEX(#REF!,MATCH($D8,#REF!,0),1)*$S8+INDEX(#REF!,MATCH($D8,#REF!,0),2)*$V8+INDEX(#REF!,MATCH($D8,#REF!,0),3)*$AG8),"",INDEX(#REF!,MATCH($D8,#REF!,0),1)*$S8+INDEX(#REF!,MATCH($D8,#REF!,0),2)*$V8+INDEX(#REF!,MATCH($D8,#REF!,0),3)*$AG8) | S8: =IF(ISERROR(ROUND(IF(U8=100,T8,INDEX(#REF!,COUNTIF(OFFSET(#REF!,0,MATCH($U8,#REF!,0)),"<="&$T8))),1)),0,ROUND(IF(U8=100,T8,INDEX(#REF!,COUNTIF(OFFSET(#REF!,0,MATCH($U8,#REF!,0)),"<="&$T8))),1)) -> 0 | V8: =IF($W8="기초생활수급자",INDEX(#REF!,MATCH($X8,기초생활수급자,0),2),IF($W8="차상위계층",92,IF($Z8=0,90,IF($AF8<65%,88,88-($AF8*100-65)*0.4)))) -> #REF! | W8: 기초생활수급자 | X8: 보장시설 | Y8: 1 | Z8: 0 | AA8: =COUNTIF(OFFSET(INDIRECT("'"&$W8&"'!$A$2:$A$15"),0,$Y8),"<="&$Z8) -> #REF! | AB8: =IF(INDEX(INDIRECT("'"&$W8&"'!$B$2:$K$15"),$AA8,$Y8)=0,$Z8,INDEX(INDIRECT("'"&$W8&"'!$B$2:$K$15"),$AA8,$Y8)) -> #REF! | AC8: =IF(ISERROR(INDEX(INDIRECT("'"&$W8&"'!$B$2:$K$15"),$AA8+1,$Y8)),#REF!,INDEX(INDIRECT("'"&$W8&"'!$B$2:$K$15"),$AA8+1,$Y8)) -> #REF! | AD8: =INDEX(INDIRECT("'"&$W8&"'!$A$2:$A$15"),$AA8) -> #REF! | AE8: =IF(ISERROR(INDEX(INDIRECT("'"&$W8&"'!$A$2:$A$15"),$AA8+1)),INDEX(INDIRECT("'"&$W8&"'!$A$2:$A$15"),$AA8),INDEX(INDIRECT("'"&$W8&"'!$A$2:$A$15"),$AA8+1)) -> #REF! | AF8: =$AD8+($AE8-$AD8)*($Z8-$AB8)/($AC8-$AB8) -> #REF! | AG8: 26 | AI8: 300000
A9: 4 | B9: 목포시 | C9: 희망나래 | D9: 한울타리 | E9: 부민지 | F9: 030814 | G9: 여 | H9: 전남 목포시 삼향천로 35, 101동 601호 | I9: 고 | J9: 삼계고등학교 | K9: 부사관학과 | L9: 3 | M9: 010-5632-0814 | N9: 010-5621-0814 | O9: 농협 | P9: 356-1207-4987-23 | Q9: 부민지 | R9: =IF(ISERROR(INDEX(#REF!,MATCH($D9,#REF!,0),1)*$S9+INDEX(#REF!,MATCH($D9,#REF!,0),2)*$V9+INDEX(#REF!,MATCH($D9,#REF!,0),3)*$AG9),"",INDEX(#REF!,MATCH($D9,#REF!,0),1)*$S9+INDEX(#REF!,MATCH($D9,#REF!,0),2)*$V9+INDEX(#REF!,MATCH($D9,#REF!,0),3)*$AG9) | S9: 0 | V9: =IF($W9="기초생활수급자",INDEX(#REF!,MATCH($X9,기초생활수급자,0),2),IF($W9="차상위계층",92,IF($Z9=0,90,IF($AF9<65%,88,88-($AF9*100-65)*0.4)))) -> #REF! | W9: 기초생활수급자 | X9: 주거급여 | Y9: 3 | Z9: 0 | AA9: =COUNTIF(OFFSET(INDIRECT("'"&$W9&"'!$A$2:$A$15"),0,$Y9),"<="&$Z9) -> #REF! | AB9: =IF(INDEX(INDIRECT("'"&$W9&"'!$B$2:$K$15"),$AA9,$Y9)=0,$Z9,INDEX(INDIRECT("'"&$W9&"'!$B$2:$K$15"),$AA9,$Y9)) -> #REF! | AC9: =IF(ISERROR(INDEX(INDIRECT("'"&$W9&"'!$B$2:$K$15"),$AA9+1,$Y9)),#REF!,INDEX(INDIRECT("'"&$W9&"'!$B$2:$K$15"),$AA9+1,$Y9)) -> #REF! | AD9: =INDEX(INDIRECT("'"&$W9&"'!$A$2:$A$15"),$AA9) -> #REF! | AE9: =IF(ISERROR(INDEX(INDIRECT("'"&$W9&"'!$A$2:$A$15"),$AA9+1)),INDEX(INDIRECT("'"&$W9&"'!$A$2:$A$15"),$AA9),INDEX(INDIRECT("'"&$W9&"'!$A$2:$A$15"),$AA9+1)) -> #REF! | AF9: =$AD9+($AE9-$AD9)*($Z9-$AB9)/($AC9-$AB9) -> #REF! | AG9: 24 | AI9: 500000
A10: 5 | B10: 목포시 | C10: 희망나래 | D10: 한울타리 | E10: 김건령 | F10: 030606 | G10: 남 | H10: 전남 목포시 삼각로43번길 22, 301호 | I10: 고 | J10: 완도수산고등학교 | K10: 어선운항관리과 | L10: 3 | M10: 010-6647-2132 | N10: 010-8881-2132 | O10: 농협 | P10: 356-1402-1819-83 | Q10: 김건령 | R10: =IF(ISERROR(INDEX(#REF!,MATCH($D10,#REF!,0),1)*$S10+INDEX(#REF!,MATCH($D10,#REF!,0),2)*$V10+INDEX(#REF!,MATCH($D10,#REF!,0),3)*$AG10),"",INDEX(#REF!,MATCH($D10,#REF!,0),1)*$S10+INDEX(#REF!,MATCH($D10,#REF!,0),2)*$V10+INDEX(#REF!,MATCH($D10,#REF!,0),3)*$AG10) | S10: =IF(ISERROR(ROUND(IF(U10=100,T10,INDEX(#REF!,COUNTIF(OFFSET(#REF!,0,MATCH($U10,#REF!,0)),"<="&$T10))),1)),0,ROUND(IF(U10=100,T10,INDEX(#REF!,COUNTIF(OFFSET(#REF!,0,MATCH($U10,#REF!,0)),"<="&$T10))),1)) -> 0 | V10: =IF($W10="기초생활수급자",INDEX(#REF!,MATCH($X10,기초생활수급자,0),2),IF($W10="차상위계층",92,IF($Z10=0,90,IF($AF10<65%,88,88-($AF10*100-65)*0.4)))) -> #REF! | W10: 직장가입자 | Y10: 2 | Z10: 46380 | AA10: =COUNTIF(OFFSET(INDIRECT("'"&$W10&"'!$A$2:$A$15"),0,$Y10),"<="&$Z10) -> #REF! | AB10: =IF(INDEX(INDIRECT("'"&$W10&"'!$B$2:$K$15"),$AA10,$Y10)=0,$Z10,INDEX(INDIRECT("'"&$W10&"'!$B$2:$K$15"),$AA10,$Y10)) -> #REF! | AC10: =IF(ISERROR(INDEX(INDIRECT("'"&$W10&"'!$B$2:$K$15"),$AA10+1,$Y10)),#REF!,INDEX(INDIRECT("'"&$W10&"'!$B$2:$K$15"),$AA10+1,$Y10)) -> #REF! | AD10: =INDEX(INDIRECT("'"&$W10&"'!$A$2:$A$15"),$AA10) -> #REF! | AE10: =IF(ISERROR(INDEX(INDIRECT("'"&$W10&"'!$A$2:$A$15"),$AA10+1)),INDEX(INDIRECT("'"&$W10&"'!$A$2:$A$15"),$AA10),INDEX(INDIRECT("'"&$W10&"'!$A$2:$A$15"),$AA10+1)) -> #REF! | AF10: =$AD10+($AE10-$AD10)*($Z10-$AB10)/($AC10-$AB10) -> #REF! | AG10: 27 | AI10: 500000
A11: 6 | B11: 목포시 | C11: 희망나래 | D11: 한울타리 | E11: 김민지 | F11: 050330 | G11: 여 | H11: 전남 목포시 보리마당로52번길 18 | I11: 고 | J11: 전남보건고등학교 | K11: 보건간호과 | L11: 1 | M11: 010-8563-3967 | N11: 010-5861-3967 | O11: 농협 | P11: 356-1461-2985-83 | Q11: 김민지 | R11: =IF(ISERROR(INDEX(#REF!,MATCH($D11,#REF!,0),1)*$S11+INDEX(#REF!,MATCH($D11,#REF!,0),2)*$V11+INDEX(#REF!,MATCH($D11,#REF!,0),3)*$AG11),"",INDEX(#REF!,MATCH($D11,#REF!,0),1)*$S11+INDEX(#REF!,MATCH($D11,#REF!,0),2)*$V11+INDEX(#REF!,MATCH($D11,#REF!,0),3)*$AG11) | S11: =IF(ISERROR(ROUND(IF(U11=100,T11,INDEX(#REF!,COUNTIF(OFFSET(#REF!,0,MATCH($U11,#REF!,0)),"<="&$T11))),1)),0,ROUND(IF(U11=100,T11,INDEX(#REF!,COUNTIF(OFFSET(#REF!,0,MATCH($U11,#REF!,0)),"<="&$T11))),1)) -> 0 | V11: =IF($W11="기초생활수급자",INDEX(#REF!,MATCH($X11,기초생활수급자,0),2),IF($W11="차상위계층",92,IF($Z11=0,90,IF($AF11<65%,88,88-($AF11*100-65)*0.4)))) -> #REF! | W11: 지역가입자 | Y11: 2 | Z11: 14180 | AA11: =COUNTIF(OFFSET(INDIRECT("'"&$W11&"'!$A$2:$A$15"),0,$Y11),"<="&$Z11) -> #REF! | AB11: =IF(INDEX(INDIRECT("'"&$W11&"'!$B$2:$K$15"),$AA11,$Y11)=0,$Z11,INDEX(INDIRECT("'"&$W11&"'!$B$2:$K$15"),$AA11,$Y11)) -> #REF! | AC11: =IF(ISERROR(INDEX(INDIRECT("'"&$W11&"'!$B$2:$K$15"),$AA11+1,$Y11)),#REF!,INDEX(INDIRECT("'"&$W11&"'!$B$2:$K$15"),$AA11+1,$Y11)) -> #REF! | AD11: =INDEX(INDIRECT("'"&$W11&"'!$A$2:$A$15"),$AA11) -> #REF! | AE11: =IF(ISERROR(INDEX(INDIRECT("'"&$W11&"'!$A$2:$A$15"),$AA11+1)),INDEX(INDIRECT("'"&$W11&"'!$A$2:$A$15"),$AA11),INDEX(INDIRECT("'"&$W11&"'!$A$2:$A$15"),$AA11+1)) -> #REF! | AF11: =$AD11+($AE11-$AD11)*($Z11-$AB11)/($AC11-$AB11) -> #REF! | AG11: 21 | AI11: 500000
A12: 7 | B12: 목포시 | C12: 희망나래 | D12: 한울타리 | E12: 오정미 | F12: 830816 | G12: 여 | H12: 전남 목포시 교육로 107, 902호 | I12: 대 | J12: 목포과학대학교 | K12: 휴먼융합복지과 | L12: 2 | M12: 010-4919-1231 | O12: 우체국 | P12: 503904-02-117843 | Q12: 오정미 | R12: =IF(ISERROR(INDEX(#REF!,MATCH($D12,#REF!,0),1)*$S12+INDEX(#REF!,MATCH($D12,#REF!,0),2)*$V12+INDEX(#REF!,MATCH($D12,#REF!,0),3)*$AG12),"",INDEX(#REF!,MATCH($D12,#REF!,0),1)*$S12+INDEX(#REF!,MATCH($D12,#REF!,0),2)*$V12+INDEX(#REF!,MATCH($D12,#REF!,0),3)*$AG12) | S12: =IF(ISERROR(ROUND(IF(U12=100,T12,INDEX(#REF!,COUNTIF(OFFSET(#REF!,0,MATCH($U12,#REF!,0)),"<="&$T12))),1)),0,ROUND(IF(U12=100,T12,INDEX(#REF!,COUNTIF(OFFSET(#REF!,0,MATCH($U12,#REF!,0)),"<="&$T12))),1)) -> 0 | V12: =IF($W12="기초생활수급자",INDEX(#REF!,MATCH($X12,기초생활수급자,0),2),IF($W12="차상위계층",92,IF($Z12=0,90,IF($AF12<65%,88,88-($AF12*100-65)*0.4)))) -> #REF! | W12: 기초생활수급자 | X12: 생계급여 | Y12: 2 | Z12: 0 | AA12: =COUNTIF(OFFSET(INDIRECT("'"&$W12&"'!$A$2:$A$15"),0,$Y12),"<="&$Z12) -> #REF! | AB12: =IF(INDEX(INDIRECT("'"&$W12&"'!$B$2:$K$15"),$AA12,$Y12)=0,$Z12,INDEX(INDIRECT("'"&$W12&"'!$B$2:$K$15"),$AA12,$Y12)) -> #REF! | AC12: =IF(ISERROR(INDEX(INDIRECT("'"&$W12&"'!$B$2:$K$15"),$AA12+1,$Y12)),#REF!,INDEX(INDIRECT("'"&$W12&"'!$B$2:$K$15"),$AA12+1,$Y12)) -> #REF! | AD12: =INDEX(INDIRECT("'"&$W12&"'!$A$2:$A$15"),$AA12) -> #REF! | AE12: =IF(ISERROR(INDEX(INDIRECT("'"&$W12&"'!$A$2:$A$15"),$AA12+1)),INDEX(INDIRECT("'"&$W12&"'!$A$2:$A$15"),$AA12),INDEX(INDIRECT("'"&$W12&"'!$A$2:$A$15"),$AA12+1)) -> #REF! | AF12: =$AD12+($AE12-$AD12)*($Z12-$AB12)/($AC12-$AB12) -> #REF! | AG12: 15 | AI12: 1500000 | AJ12: 0166871964 | AK12: 2685000 | AL12: 2600000 | AM12: 2600000
A13: 8 | B13: 목포시 | C13: 희망나래 | D13: 한울타리 | E13: 정휘찬 | F13: 990106 | G13: 남 | H13: 전남 목포시 죽교천로136번길 5 | I13: 대 | J13: 한양대학교 | K13: 전자공학부 | L13: 3 | M13: 010-7697-9955 | N13: 010-7442-1671 | O13: 우체국 | P13: 500421-02-201104 | Q13: 정휘찬 | R13: =IF(ISERROR(INDEX(#REF!,MATCH($D13,#REF!,0),1)*$S13+INDEX(#REF!,MATCH($D13,#REF!,0),2)*$V13+INDEX(#REF!,MATCH($D13,#REF!,0),3)*$AG13),"",INDEX(#REF!,MATCH($D13,#REF!,0),1)*$S13+INDEX(#REF!,MATCH($D13,#REF!,0),2)*$V13+INDEX(#REF!,MATCH($D13,#REF!,0),3)*$AG13) | S13: =IF(ISERROR(ROUND(IF(U13=100,T13,INDEX(#REF!,COUNTIF(OFFSET(#REF!,0,MATCH($U13,#REF!,0)),"<="&$T13))),1)),0,ROUND(IF(U13=100,T13,INDEX(#REF!,COUNTIF(OFFSET(#REF!,0,MATCH($U13,#REF!,0)),"<="&$T13))),1)) -> 0 | V13: =IF($W13="기초생활수급자",INDEX(#REF!,MATCH($X13,기초생활수급자,0),2),IF($W13="차상위계층",92,IF($Z13=0,90,IF($AF13<65%,88,88-($AF13*100-65)*0.4)))) -> #REF! | W13: 직장가입자 | Y13: 4 | Z13: 125637 | AA13: =COUNTIF(OFFSET(INDIRECT("'"&$W13&"'!$A$2:$A$15"),0,$Y13),"<="&$Z13) -> #REF! | AB13: =IF(INDEX(INDIRECT("'"&$W13&"'!$B$2:$K$15"),$AA13,$Y13)=0,$Z13,INDEX(INDIRECT("'"&$W13&"'!$B$2:$K$15"),$AA13,$Y13)) -> #REF! | AC13: =IF(ISERROR(INDEX(INDIRECT("'"&$W13&"'!$B$2:$K$15"),$AA13+1,$Y13)),#REF!,INDEX(INDIRECT("'"&$W13&"'!$B$2:$K$15"),$AA13+1,$Y13)) -> #REF! | AD13: =INDEX(INDIRECT("'"&$W13&"'!$A$2:$A$15"),$AA13) -> #REF! | AE13: =IF(ISERROR(INDEX(INDIRECT("'"&$W13&"'!$A$2:$A$15"),$AA13+1)),INDEX(INDIRECT("'"&$W13&"'!$A$2:$A$15"),$AA13),INDEX(INDIRECT("'"&$W13&"'!$A$2:$A$15"),$AA13+1)) -> #REF! | AF13: =$AD13+($AE13-$AD13)*($Z13-$AB13)/($AC13-$AB13) -> #REF! | AG13: 27 | AI13: 1500000 | AJ13: 0144045594 | AK13: 4630000 | AL13: 0 | AM13: 0
A14: 9 | B14: 목포시 | C14: 희망나래 | D14: 한울타리 | E14: 이정윤 | F14: 020308 | G14: 남 | H14: 전남 목포시 청호로 201, 105동 203호 | I14: 대 | J14: 국민대학교 | K14: 신소재공학과 | L14: 1 | M14: 010-4414-3712 | N14: 010-8126-1224 | O14: 농협 | P14: 352-4414-3712-03 | Q14: 이정윤 | R14: =IF(ISERROR(INDEX(#REF!,MATCH($D14,#REF!,0),1)*$S14+INDEX(#REF!,MATCH($D14,#REF!,0),2)*$V14+INDEX(#REF!,MATCH($D14,#REF!,0),3)*$AG14),"",INDEX(#REF!,MATCH($D14,#REF!,0),1)*$S14+INDEX(#REF!,MATCH($D14,#REF!,0),2)*$V14+INDEX(#REF!,MATCH($D14,#REF!,0),3)*$AG14) | S14: =IF(ISERROR(ROUND(IF(U14=100,T14,INDEX(#REF!,COUNTIF(OFFSET(#REF!,0,MATCH($U14,#REF!,0)),"<="&$T14))),1)),0,ROUND(IF(U14=100,T14,INDEX(#REF!,COUNTIF(OFFSET(#REF!,0,MATCH($U14,#REF!,0)),"<="&$T14))),1)) -> 0 | V14: =IF($W14="기초생활수급자",INDEX(#REF!,MATCH($X14,기초생활수급자,0),2),IF($W14="차상위계층",92,IF($Z14=0,90,IF($AF14<65%,88,88-($AF14*100-65)*0.4)))) -> #REF! | W14: 기초생활수급자 | X14: 생계급여 | Y14: 4 | Z14: 0 | AA14: =COUNTIF(OFFSET(INDIRECT("'"&$W14&"'!$A$2:$A$15"),0,$Y14),"<="&$Z14) -> #REF! | AB14: =IF(INDEX(INDIRECT("'"&$W14&"'!$B$2:$K$15"),$AA14,$Y14)=0,$Z14,INDEX(INDIRECT("'"&$W14&"'!$B$2:$K$15"),$AA14,$Y14)) -> #REF! | AC14: =IF(ISERROR(INDEX(INDIRECT("'"&$W14&"'!$B$2:$K$15"),$AA14+1,$Y14)),#REF!,INDEX(INDIRECT("'"&$W14&"'!$B$2:$K$15"),$AA14+1,$Y14)) -> #REF! | AD14: =INDEX(INDIRECT("'"&$W14&"'!$A$2:$A$15"),$AA14) -> #REF! | AE14: =IF(ISERROR(INDEX(INDIRECT("'"&$W14&"'!$A$2:$A$15"),$AA14+1)),INDEX(INDIRECT("'"&$W14&"'!$A$2:$A$15"),$AA14),INDEX(INDIRECT("'"&$W14&"'!$A$2:$A$15"),$AA14+1)) -> #REF! | AF14: =$AD14+($AE14-$AD14)*($Z14-$AB14)/($AC14-$AB14) -> #REF! | AG14: 25 | AI14: 1500000 | AJ14: 0174579732 | AK14: 4516000 | AL14: 4486000 | AM14: 4486000
A15: 10 | B15: 목포시 | C15: 희망나래 | D15: 한울타리 | E15: 이현승 | F15: 010621 | G15: 남 | H15: 전남 목포시 삼학로 376-1, 5동 202호 | I15: 대 | J15: 성균관대학교 | K15: 전자전기공학부 | L15: 2 | M15: 010-4521-5981 | N15: 010-2667-5981 | O15: 농협 | P15: 349-0583-0728-91 | Q15: 이현승 | R15: =IF(ISERROR(INDEX(#REF!,MATCH($D15,#REF!,0),1)*$S15+INDEX(#REF!,MATCH($D15,#REF!,0),2)*$V15+INDEX(#REF!,MATCH($D15,#REF!,0),3)*$AG15),"",INDEX(#REF!,MATCH($D15,#REF!,0),1)*$S15+INDEX(#REF!,MATCH($D15,#REF!,0),2)*$V15+INDEX(#REF!,MATCH($D15,#REF!,0),3)*$AG15) | S15: =IF(ISERROR(ROUND(IF(U15=100,T15,INDEX(#REF!,COUNTIF(OFFSET(#REF!,0,MATCH($U15,#REF!,0)),"<="&$T15))),1)),0,ROUND(IF(U15=100,T15,INDEX(#REF!,COUNTIF(OFFSET(#REF!,0,MATCH($U15,#REF!,0)),"<="&$T15))),1)) -> 0 | V15: =IF($W15="기초생활수급자",INDEX(#REF!,MATCH($X15,기초생활수급자,0),2),IF($W15="차상위계층",92,IF($Z15=0,90,IF($AF15<65%,88,88-($AF15*100-65)*0.4)))) -> #REF! | W15: 직장가입자 | Y15: 3 | Z15: 67923 | AA15: =COUNTIF(OFFSET(INDIRECT("'"&$W15&"'!$A$2:$A$15"),0,$Y15),"<="&$Z15) -> #REF! | AB15: =IF(INDEX(INDIRECT("'"&$W15&"'!$B$2:$K$15"),$AA15,$Y15)=0,$Z15,INDEX(INDIRECT("'"&$W15&"'!$B$2:$K$15"),$AA15,$Y15)) -> #REF! | AC15: =IF(ISERROR(INDEX(INDIRECT("'"&$W15&"'!$B$2:$K$15"),$AA15+1,$Y15)),#REF!,INDEX(INDIRECT("'"&$W15&"'!$B$2:$K$15"),$AA15+1,$Y15)) -> #REF! | AD15: =INDEX(INDIRECT("'"&$W15&"'!$A$2:$A$15"),$AA15) -> #REF! | AE15: =IF(ISERROR(INDEX(INDIRECT("'"&$W15&"'!$A$2:$A$15"),$AA15+1)),INDEX(INDIRECT("'"&$W15&"'!$A$2:$A$15"),$AA15),INDEX(INDIRECT("'"&$W15&"'!$A$2:$A$15"),$AA15+1)) -> #REF! | AF15: =$AD15+($AE15-$AD15)*($Z15-$AB15)/($AC15-$AB15) -> #REF! | AG15: 26 | AI15: 1500000 | AJ15: 0169711243 | AK15: 4567000 | AL15: 4557000 | AM15: 4557000 | AN15: 등본 최근걸로, 학생 건강보험료 납부 서류가 없음
A16: 11 | B16: 여수시 | C16: 희망나래 | D16: 한울타리 | E16: 강수아 | F16: 070526 | G16: 여 | H16: 전남 여수시 좌수영로 435, 9동 104호(둔덕주공아파트) | I16: 중 | J16: 화양중학교 | L16: 2 | M16: 010-7683-2115 | N16: 010-4936-6923 | O16: 농협 | P16: 384-1113-2107-23 | Q16: 강수아 | R16: 99 | S16: 0 | V16: 100 | W16: 기초생활수급자 | X16: 생계급여 | AA16: #REF! | AB16: #REF! | AC16: #REF! | AD16: #REF! | AE16: #REF! | AF16: #REF! | AG16: 29 | AI16: 300000 | AN16: -
A17: 12 | B17: 여수시 | C17: 희망나래 | D17: 한울타리 | E17: 우경민 | F17: 060411 | G17: 남 | H17: 전남 여수시 신월로 655, 109동 1003호(국동, 서희스타힐스A) | I17: 중 | J17: 여수구봉중학교 | L17: 3 | M17: 010-8855-6483 | N17: 010-5674-0472 | O17: 농협 | P17: 352-1374-8076-43 | Q17: 우경민 | R17: 96.2 | S17: 0 | V17: 96 | W17: 기초생활수급자 | X17: 주거급여 | AA17: #REF! | AB17: #REF! | AC17: #REF! | AD17: #REF! | AE17: #REF! | AF17: #REF! | AG17: 29 | AI17: 300000 | AN17: -
A18: 13 | B18: 여수시 | C18: 희망나래 | D18: 한울타리 | E18: 이현강 | F18: 060721 | G18: 남 | H18: 전남 여수시 선원7길 56, 106동 202호 | I18: 중 | J18: 여선중학교 | L18: 3 | M18: 010-9302-6445 | N18: 010-7191-7899 | O18: 농협 | P18: 302-1330-0726-51 | Q18: 이현강 | R18: 96.2 | S18: 0 | V18: 96 | W18: 기초생활수급자 | X18: 주거급여 | AA18: #REF! | AB18: #REF! | AC18: #REF! | AD18: #REF! | AE18: #REF! | AF18: #REF! | AG18: 29 | AI18: 300000 | AN18: -
A19: 14 | B19: 여수시 | C19: 희망나래 | D19: 한울타리 | E19: 하승준 | F19: 030125 | G19: 남 | H19: 전남 여수시 율촌면 도성길 76-21 | I19: 고 | J19: 순천전자고등학교 | K19: 해킹보안과 | L19: 3 | M19: 010-5069-7824 | N19: 010-7683-7880 | O19: 농협 | P19: 356-0028-7529-43 | Q19: 하승준 | R19: 100 | S19: 0 | V19: 100 | W19: 기초생활수급자 | X19: 생계급여 | AA19: #REF! | AB19: #REF! | AC19: #REF! | AD19: #REF! | AE19: #REF! | AF19: #REF! | AG19: 30 | AI19: 500000 | AN19: -
A20: 15 | B20: 여수시 | C20: 희망나래 | D20: 한울타리 | E20: 정예진 | F20: 051210 | G20: 여 | H20: 전남 여수시 덕충6길 64(덕충동) | I20: 고 | J20: 여수여자고등학교 | L20: 1 | M20: 010-4992-1855 | N20: 010-5600-1855 | O20: 농협 | P20: 351-1125-7298-63 | Q20: 정예진 | R20: 97.2 | S20: 0 | V20: 96 | W20: 기초생활수급자 | X20: 주거급여 | AA20: #REF! | AB20: #REF! | AC20: #REF! | AD20: #REF! | AE20: #REF! | AF20: #REF! | AG20: 30 | AI20: 500000 | AN20: -
A21: 16 | B21: 여수시 | C21: 희망나래 | D21: 한울타리 | E21: 공여진 | F21: 040707 | G21: 여 | H21: 전남 여수시 웅천남8로 23, 208동 804호 | I21: 고 | J21: 부영여자고등학교 | L21: 2 | M21: 010-8108-0175 | N21: 010-5525-0175 | O21: 농협 | P21: 351-1028-3587-53 | Q21: 공여진 | R21: 97.2 | S21: 0 | V21: 96 | W21: 기초생활수급자 | X21: 주거급여 | AA21: #REF! | AB21: #REF! | AC21: #REF! | AD21: #REF! | AE21: #REF! | AF21: #REF! | AG21: 30 | AI21: 500000 | AN21: -
A22: 17 | B22: 여수시 | C22: 희망나래 | D22: 한울타리 | E22: 전서영 | F22: 030415 | G22: 여 | H22: 전남 여수시 여서로 188, 702동 905호(여서동, 부영아파트) | I22: 고 | J22: 중앙여자고등학교 | L22: 3 | M22: 010-5546-3612 | N22: 010-3360-3612 | O22: 농협 | P22: 302-1329-3672-61 | Q22: 전서영 | R22: 93.4 | S22: 0 | V22: 92 | W22: 차상위계층 | AA22: #REF! | AB22: #REF! | AC22: #REF! | AD22: #REF! | AE22: #REF! | AF22: #REF! | AG22: 29 | AI22: 500000 | AN22: -
A23: 18 | B23: 여수시 | C23: 희망나래 | D23: 한울타리 | E23: 최서인 | F23: 011226 | G23: 여 | H23: 전남 여수시 봉강로 32 | I23: 대 | J23: 서울대학교 | K23: 산림환경학과/산림과학부 | L23: 2 | M23: 010-9236-4532 | N23: 010-2783-1877 | O23: 하나 | P23: 720-910308-53807 | Q23: 최서인 | R23: 100 | S23: 0 | V23: 100 | W23: 기초생활수급자 | X23: 생계급여 | AA23: #REF! | AB23: #REF! | AC23: #REF! | AD23: #REF! | AE23: #REF! | AF23: #REF! | AG23: 30 | AI23: 1500000 | AJ23: 164647176 | AK23: 2975000 | AL23: 2975000 | AN23: - | AO23: 학업장려금 이중수혜가능
A24: 19 | B24: 여수시 | C24: 희망나래 | D24: 한울타리 | E24: 김보미 | F24: 990413 | G24: 여 | H24: 전남 여수시 무선2길 39, 102동 804호 | I24: 대 | J24: 순천대학교 | K24: 간호학과 | L24: 4 | M24: 010-9445-1022 | N24: 010-4633-5397 | O24: 우체국 | P24: 503953-02-139051 | Q24: 김보미 | R24: 100 | S24: 0 | V24: 100 | W24: 기초생활수급자 | X24: 생계급여 | AA24: #REF! | AB24: #REF! | AC24: #REF! | AD24: #REF! | AE24: #REF! | AF24: #REF! | AG24: 30 | AI24: 1500000 | AJ24: 151666147 | AK24: 2035000 | AL24: 2035000 | AN24: - | AO24: 학업장려금 이중수혜가능
A25: 20 | B25: 여수시 | C25: 희망나래 | D25: 한울타리 | E25: 전유진 | F25: 020826 | G25: 여 | H25: 전남 여수시 덕충안길 5, 6동 502호(덕충동, 주공아파트) | I25: 대 | J25: 한국예술종합학교 | K25: 연희과/전통예술원 | L25: 1 | M25: 010-5590-2362 | N25: 010-8980-1537 | O25: 신한은행 | P25: 110-473-014729 | Q25: 전유진 | R25: 100 | S25: 0 | V25: 100 | W25: 기초생활수급자 | X25: 생계급여 | AA25: #REF! | AB25: #REF! | AC25: #REF! | AD25: #REF! | AE25: #REF! | AF25: #REF! | AG25: 30 | AI25: 1500000 | AJ25: 174098397 | AK25: 2585000 | AL25: 2555000 | AN25: 30000 | AO25: 학업장려금 이중수혜가능
A26: 21 | B26: 여수시 | C26: 희망나래 | D26: 한울타리 | E26: 배미라 | F26: 010423 | G26: 여 | H26: 전남 여수시 여문2로 11, 107동 114호 | I26: 대 | J26: 조선대학교 | K26: 경영학과 | L26: 2 | M26: 010-6436-4506 | N26: 010-3783-5299 | O26: 카카오뱅크 | P26: 3333-13-8090924 | Q26: 배미라 | R26: 99 | S26: 0 | V26: 100 | W26: 기초생활수급자 | X26: 생계급여 | AA26: #REF! | AB26: #REF! | AC26: #REF! | AD26: #REF! | AE26: #REF! | AF26: #REF! | AG26: 29 | AI26: 1500000 | AJ26: 168384850 | AK26: 2864000 | AL26: 2864000 | AN26: - | AO26: 학업장려금 이중수혜가능
A27: 22 | B27: 여수시 | C27: 희망나래 | D27: 한울타리 | E27: 정예진 | F27: 980606 | G27: 여 | H27: 전남 여수시 신기북7길 37 | I27: 대 | J27: 동신대학교 | K27: 간호학과 | L27: 4 | M27: 010-3804-8060 | N27: 010-4159-7004 | O27: 농협 | P27: 352-1219-2207-13 | Q27: 정예진 | R27: 94.4 | S27: 0 | V27: 92 | W27: 차상위계층 | AA27: #REF! | AB27: #REF! | AC27: #REF! | AD27: #REF! | AE27: #REF! | AF27: #REF! | AG27: 30 | AI27: 1500000 | AJ27: 144241466 | AK27: 3327000 | AL27: 2600000 | AN27: 727000 | AO27: 학업장려금 이중수혜가능
A28: 23 | B28: 여수시 | C28: 희망나래 | D28: 한울타리 | E28: 최양선 | F28: 921116 | G28: 여 | H28: 전남 여수시 쌍봉로 177, 102동 502호(신기동, 주공아파트) | I28: 대 | J28: 호남신학대학교 | K28: 음악학과 | L28: 4 | M28: 010-2486-5659 | N28: 010-3877-5624 | O28: 우리은행 | P28: 1002-451-190812 | Q28: 최양선 | R28: 94.4 | S28: 0 | V28: 92 | W28: 차상위계층 | AA28: #REF! | AB28: #REF! | AC28: #REF! | AD28: #REF! | AE28: #REF! | AF28: #REF! | AG28: 30 | AI28: 1500000 | AJ28: 151113130 | AK28: 3896700 | AL28: 3866700 | AN28: 30000 | AO28: 학업장려금 이중수혜가능
A29: 24 | B29: 여수시 | C29: 희망나래 | D29: 한울타리 | E29: 정세원 | F29: 010223 | G29: 여 | H29: 전남 여수시 대치1길 57 | I29: 대 | J29: 광주여자대학교 | K29: 간호학과 | L29: 2 | M29: 010-4651-9873 | N29: 010-4651-0722 | O29: 농협 | P29: 501040-52-100255 | Q29: 정세원 | R29: 94.4 | S29: 0 | V29: 92 | W29: 차상위계층 | AA29: #REF! | AB29: #REF! | AC29: #REF! | AD29: #REF! | AE29: #REF! | AF29: #REF! | AG29: 30 | AI29: 1500000 | AJ29: 166644322 | AK29: 3482000 | AL29: 3417000 | AN29: 65000 | AO29: 학업장려금 이중수혜가능
A30: 25 | B30: 여수시 | C30: 희망나래 | D30: 한울타리 | E30: 김성훈 | F30: 010529 | G30: 남 | H30: 전남 여수시 봉계대곡길 50, 105동 1501호 | I30: 대 | J30: 계명대학교 | K30: 컴퓨터공학과/컴퓨터공학부 | L30: 2 | M30: 010-4190-7374 | N30: 010-2021-7374 | O30: 기업은행 | P30: 193-103448-01-012 | Q30: 김성훈 | R30: 92.4 | S30: 0 | V30: 92 | W30: 차상위계층 | AA30: #REF! | AB30: #REF! | AC30: #REF! | AD30: #REF! | AE30: #REF! | AF30: #REF! | AG30: 28 | AI30: 1500000 | AJ30: 166589303 | AK30: 4129000 | AL30: 3000000 | AN30: 1129000 | AO30: 학업장려금 이중수혜가능
A31: 26 | B31: 여수시 | C31: 특별지정 | D31: 율촌현대 | E31: 최현원 | F31: 990101 | G31: 남 | H31: 전남 여수시 좌수영로 34 | I31: 대 | J31: 전주대학교 | K31: 금융보험학과/경영학부 | L31: 4 | M31: 010-3024-2785 | N31: 010-3385-2785 | O31: 농협 | P31: 351-0913-0047-23 | Q31: 최현원 | R31: 84.92 | S31: 95 | T31: 4.13 | U31: 4.5 | V31: 84.92 | W31: 혼합가입자 | Y31: 4명 | Z31: 95746 | AA31: 3 | AB31: 119635 | AC31: 135612 | AD31: 0.7 | AE31: 0.8 | AF31: 0.727 | AI31: 1500000 | AJ31: 143263437 | AN31: -
A32: 27 | B32: 여수시 | C32: 특별지정 | D32: 율촌현대 | E32: 문호연 | F32: 021001 | G32: 남 | H32: 전남 여수시 여문1로 90, 802동 509호 | I32: 대 | J32: 서울대학교 | K32: 화학생물공학부 | L32: 1 | M32: 010-9817-8648 | N32: 010-3621-8647 | O32: 농협 | P32: 351-0958-8795-93 | Q32: 문호연 | R32: 64.28 | S32: 97.7 | T32: 97.68 | U32: 100 | V32: 64.28 | W32: 직장가입자 | Y32: 4명 | Z32: 193360 | AA32: 8 | AB32: 203558 | AC32: 220987 | AD32: 1.2 | AE32: 1.3 | AF32: 1.2429 | AI32: 1500000 | AJ32: 15286462 | AK32: 2998000 | AL32: - | AN32: 2998000
A33: 28 | B33: 여수시 | C33: 특별지정 | D33: 율촌현대 | E33: 유가은 | F33: 040302 | G33: 여 | H33: 전남 여수시 상암로 72, 205호 | I33: 고 | J33: 여수충무고등학교 | L33: 2 | M33: 010-2030-2374 | N33: 010-4028-3340 | O33: 농협 | P33: 351-0536-6181-53 | Q33: 유가은 | R33: 100 | S33: 72.3 | T33: 72.3 | U33: 100 | V33: 100 | W33: 기초생활수급자 | X33: 생계급여 | AA33: #REF! | AB33: #REF! | AC33: #REF! | AD33: #REF! | AE33: #REF! | AF33: #REF! | AI33: 500000 | AN33: - | AO33: 수급자 성적 70점이상
A34: 29 | B34: 여수시 | C34: 특별지정 | D34: 율촌현대 | E34: 김서윤 | F34: 030925 | G34: 여 | H34: 전남 여수시 국동남5길 20-8, 2층(실거주지) | I34: 고 | J34: 진성여자고등학교 | K34: 사무행정과 | L34: 3 | M34: 010-2232-8049 | N34: 010-5606-8058 | O34: 하나은행 | P34: 010-223280-49407 | Q34: 김서윤 | R34: 96 | S34: 95 | T34: 95 | U34: 100 | V34: 96 | W34: 기초생활수급자 | X34: 주거급여 | AA34: #REF! | AB34: #REF! | AC34: #REF! | AD34: #REF! | AE34: #REF! | AF34: #REF! | AI34: 500000 | AN34: - | AO34: 이혼가정(모와 같이 거주-국동)
A35: 30 | B35: 여수시 | C35: 특별지정 | D35: 율촌현대 | E35: 박소연 | F35: 031224 | G35: 여 | H35: 전남 여수시 여문2로 197, 301동 512호(여서동, 현대아파트) | I35: 고 | J35: 진성여자고등학교 | K35: 사무행정과 | L35: 3 | M35: 010-7634-0208 | N35: 010-5640-0859 | O35: 국민은행 | P35: 786501-01-542794 | Q35: 박소연 | R35: 88 | S35: 91.4 | T35: 91.4 | U35: 100 | V35: 88 | W35: 직장가입자 | Y35: 2명 | Z35: 22640 | AA35: 1 | AB35: 23323 | AC35: 69016 | AD35: 0 | AE35: 0.65 | AF35: 0 | AI35: 500000 | AN35: -
A36: 31 | B36: 여수시 | C36: 특별지정 | D36: 율촌현대 | E36: 서민희 | F36: 041022 | G36: 여 | H36: 전남 여수시 용수1길 20-5 | I36: 고 | J36: 여수정보과학고등학교 | K36: 금융정보과 | L36: 2 | M36: 010-3375-5389 | N36: 010-3375-5389 | O36: 농협 | P36: 351-1000-2803-33 | Q36: 서민희 | R36: 79.52 | S36: 96.4 | T36: 96.4 | U36: 100 | V36: 79.52 | W36: 직장가입자 | Y36: 6명 | Z36: 197416 | AA36: 4 | AB36: 182541 | AC36: 206575 | AD36: 0.8 | AE36: 0.9 | AF36: 0.8619 | AI36: 500000 | AN36: - | AO36: 2020년 하반기 인재육성장학금 지원
A37: 32 | B37: 여수시 | C37: 특별지정 | D37: 율촌현대 | E37: 한종훈 | F37: 011125 | G37: 남 | H37: 전남 여수시 돌산읍 강남동로 46-25, 201동 703호 | I37: 대 | J37: 호남대학교 | K37: 외식조리학과 | L37: 2 | M37: 010-4109-7864 | N37: 010-6534-0707 | O37: 카카오뱅크 | P37: 3333-10-2750922 | Q37: 한종훈 | R37: 96 | S37: 98 | T37: 4.4 | U37: 4.5 | V37: 96 | W37: 기초생활수급자 | X37: 주거급여 | AA37: #REF! | AB37: #REF! | AC37: #REF! | AD37: #REF! | AE37: #REF! | AF37: #REF! | AI37: 222000 | AJ37: 165680447 | AK37: 3372000 | AL37: 3150000 | AN37: 222000 | AO37: 대출상환대상자(222,000원)
A38: 33 | B38: 여수시 | C38: 특별지정 | D38: 율촌현대 | E38: 공성준 | F38: 010326 | G38: 남 | H38: 전남 여수시 웅천남8로 23, 211동 1603호 | I38: 대 | J38: 한국교원대학교 | K38: 기술교육과 | L38: 2 | M38: 010-8615-9557 | N38: 010-6609-8557 | O38: 산업은행 | P38: 020-9200-0594-820 | Q38: 공성준 | R38: 88 | S38: 94 | T38: 4.09 | U38: 4.5 | V38: 88 | W38: 혼합가입자 | Y38: 4명 | Z38: 80710 | AA38: 1 | AB38: 88960 | AC38: 110271 | AD38: 0 | AE38: 0.65 | AF38: 0 | AI38: 1500000 | AJ38: 167419566 | AK38: 1800000 | AL38: - | AN38: 1800000 | AO38: 2020년 하반기 인재육성장학금 지원
A39: 34 | B39: 여수시 | C39: 아름드리 | D39: 특별격려 | E39: 박건희 | F39: 020908 | G39: 남 | H39: 전남 여수시 소라면 죽림로 10, 108동 301호 | I39: 대 | J39: 경남대학교 | K39: 전자공학과 | L39: 1 | M39: 010-8626-1190 | N39: 010-7616-1182 | O39: 새마을금고 | P39: 9002-1953-7675-7 | Q39: 박건희 | AI39: 500000 | AO39: 긴급지원 가정의 대학생
A40: 35 | B40: 순천시 | C40: 희망나래 | D40: 한울타리 | E40: 최영은 | F40: 071002 | G40: 여 | H40: 전남 순천시 서면 강청길 80, 204-201 | I40: 중 | J40: 순천여자중학교 | L40: 2 | M40: 010-5451-9764 | N40: 010-7142-3978 | O40: 농협 | P40: 356-1414-1926-83 | Q40: 최영은 | R40: 96.85 | S40: 0 | V40: 98 | W40: 기초생활수급자 | X40: 의료급여 | AA40: #REF! | AB40: #REF! | AC40: 특별지정 | AD40: #REF! | AE40: #REF! | AF40: #REF! | AG40: 28.25 | AI40: 300000 | AN40: 0
A41: 36 | B41: 순천시 | C41: 희망나래 | D41: 한울타리 | E41: 정설아 | F41: 070514 | G41: 여 | H41: 전남 순천시 상인제길 138-15, 102-401 | I41: 중 | J41: 순천남산중학교 | L41: 2 | M41: 010-5697-9871 | N41: 010-3408-1122 | O41: 농협 | P41: 356-0658-8665-13 | Q41: 정설아 | R41: 95 | S41: 0 | V41: 100 | W41: 기초생활수급자 | X41: 생계급여 | AA41: #REF! | AB41: #REF! | AC41: 특별지정 | AD41: #REF! | AE41: #REF! | AF41: #REF! | AG41: 25 | AI41: 300000 | AN41: 0
...

Sheet 2021년 상반기 장학생 선발 결과(종합)
A1: 2021년 행복둥지 장학생 선발 결과
A3: 연번 | B3: 신청구분 | D3: 시군 | E3: 학생 정보 | G3: 장학금
B4: 연도 | C4: 상/중/하반기 | E4: 성명 | F4: 생년월일
A5: 1 | B5: 2021 | C5: 중반기 | D5: 순천시 | E5: 황□섭 | F5: 9701** | G5: 1500000
A6: 2 | B6: 2021 | C6: 중반기 | D6: 무안군 | E6: 손□호 | F6: 9307** | G6: 1500000
A7: 3 | B7: 2021 | C7: 중반기 | D7: 무안군 | E7: 곽□영 | F7: 9903** | G7: 1500000
A8: 4 | B8: 2021 | C8: 중반기 | D8: 목포시 | E8: 최□주 | F8: 4005** | G8: 1500000
A9: 5 | B9: 2021 | C9: 중반기 | D9: 여수시 | E9: 이□연 | F9: 9908** | G9: 1500000
A10: 6 | B10: 2021 | C10: 중반기 | D10: 목포시 | E10: 우□연 | F10: 9708** | G10: 1500000
A11: 7 | B11: 2021 | C11: 중반기 | D11: 화순군 | E11: 고□완 | F11: 9711** | G11: 1500000
A12: 8 | B12: 2021 | C12: 중반기 | D12: 나주시 | E12: 최□아 | F12: 0108** | G12: 1500000
A13: 9 | B13: 2021 | C13: 중반기 | D13: 나주시 | E13: 이□현 | F13: 0204** | G13: 1500000
A14: 10 | B14: 2021 | C14: 중반기 | D14: 영암군 | E14: 박□영 | F14: 0201** | G14: 1500000
A15: 11 | B15: 2021 | C15: 중반기 | D15: 완도군 | E15: 김□루 | F15: 0208** | G15: 1500000
A16: 12 | B16: 2021 | C16: 중반기 | D16: 순천시 | E16: 주□희 | F16: 9903** | G16: 1500000
... A322: 318 | B322: 2021 | C322: 중반기 | D322: 순천시 | E322: 조□민 | F322: 9612** | G322: 500000
